Workbook

Sheet මුළු ව්‍යාපෘති
A1: 2021 වර්ෂය - රේඛීය අමාත්‍යාංශය (මධ්‍යම රජය ) - 2021.12.31 දිනට ප්‍රගතිය
D2: ප්‍රාදේශීය ලේකම් කොට්ඨාසය - ගඟවටකෝරළය
A4: අමාත්‍යාංශ අනු අංක | B4: අමාත්‍යාංශය | C4: ව්‍යාපෘති අනු අංක | D4: ව්‍යාපෘතිය | E4: වෙන් වූ මුදල රු. | F4: භෞතික ප්‍රගතිය | M4: මුල්‍ය ප්‍රගතිය | N4: වෙනත්
F5: 0-5% | G5: 6% -25 % | H5: 26% - 40 % | I5: 41 % - 60 % | J5: 61 % - 80 % | K5: 81 % - 99% | L5: වැඩ අවසන්
A6: 1 | B6: බුද්ධශාසන, ආගමික හා සංස්කෘතික කටයුතු අමාත්‍යාංශය | C6: 1 | D6: පහළ ඊරියගම, ශ්‍රී සුබෝධාරාම විහාරස්ථානයේ අපාදාවකට ලක් වු අටවිසි මන්දිරයේ වහළය ප්‍රතිසංස්කරණය කිරීම | E6: 2000000 | L6: √ | M6: 1940000 | N6: බිල පියවා ඇත.
C7: 2 | D7: අස්ගිරිය,ගුන්නෑපාන ශ්‍රී විජේසුන්දාරාම විහාරස්ථානයේ නව සංඝාවාස ගොඩනැගිල්ල ඉදිකිරීම් සඳහා ඉදිකිරිම් ද්‍රව්‍ය ලබා දීම | E7: 1000000 | L7: √ | M7: 989990.21
C8: 3 | D8: අස්ගිරිය මැද පන්සල විහාරස්ථානයේ වැසිකිලි පද්ධතියක් ඉදිකිරීම | E8: 400000 | L8: √ | M8: 388000 | N8: බිල පියවා ඇත.
C9: 4 | D9: අස්ගිරිය මැදගම විහාරස්ථානයේ ආගන්තුක භීක්ෂු නේවාසික කාමර ද්විත්වයේ ඉතිරි වැඩ කිරීම | E9: 800000 | L9: √ | M9: 776000 | N9: බිල පියවා ඇත.
C10: 5 | D10: වට්ටාරන්තැන්න,ශ්‍රී පුරාණ ගල්ලෙන් විහාරයේ භීක්ෂුන් වහන්සේ සඳහා වැසිකිළි පද්ධතියක් ඉදිකිරීම | E10: 250000 | L10: √ | M10: 242500 | N10: බිල පියවා ඇත.
C11: 6 | D11: පේරාදෙණිය,කුරුකුදේ විහාරස්ථානයේ සුමංගල දහම්පාසල සඳහා දහම් පාසල් ගෙඩනැගිල්ලක් ඉදිකිරීම | E11: 250000 | L11: √ | M11: 245000 | N11: බිල පියවා ඇත.
C12: 7 | D12: හන්තාන තපෝදාරාම විහාරස්ථානයේ (සිරි සීල විමල දහම් පාසලේ )ඉදිකරමින් පවතින දහම් පාසල් ගොඩනැගිල්ලේ වැඩ නිමකිරීම. | E12: 2640423.6 | L12: √ | M12: 2640423.6 | N12: බිල පියවා ඇත.
D13: හන්තාන තපෝදාරාම විහාරස්ථානයේ (සිරි සීල විමල දහම් පාසලේ )ඉදිකරමින් පවතින දහම් පාසල් ගොඩනැගිල්ලේ ඉතුර වැඩ කොටස නිමකිරීම. | E13: 299576.39 | L13: √ | M13: 299576.39 | N13: බිල පියවා ඇත.
C14: 8 | D14: මල්වතු මහ විහාරය ,හරංකහව විහාරස්ථානයේ ආරක්ෂීත පැති බැම්ම ඉදිකිරීමට අදාලව ඉදිකිරිම් ද්‍රව්‍ය ලබාදීම | E14: 1500000 | L14: √ | M14: 1485000 | N14: බිල පියවා ඇත.
C15: 9 | D15: ශ්‍රී සුමනතිස්ස දහම් පාසල් ( ශ්‍රී මහා විහාර පිරිවෙන,අස්ගිරිය විහාරය) සිසුන් සඳහා SMART INTERRACTIVE BOARD SIB 85 ලබා ගැනීම | E15: 650000 | L15: √ | M15: 650000 | N15: බිල පියවා ඇත.
A16: එකතුව | E16: =SUM(E6:E15) -> 9790000 | F16: 0 | G16: 0 | H16: 0 | I16: 0 | J16: 0 | K16: 1 | L16: 8 | M16: =SUM(M6:M15) -> 9656490.2
A17: 2 | B17: ජාතික ප්‍රවාහන වෛද්‍ය ආයතනය | C17: 10 | D17: ජාතික ප්‍රවාහන වෛද්‍ය ආයතනයේ මහනුවර ශාඛා කාර්යාලය ස්ථාපිත කිරීම සඳහා ලබා ගැනීමට සුදානම් කර ඇති ගොඩනැගිල්ලේ අභ්‍යන්තර ව්‍යුහය වෙනස් කිරීම (2 වන අදියර) | E17: 1050000 | L17: √ | M17: 911553.05 | N17: බිල පියවා ඇත.
C18: 11 | D18: මහනුවර ජාතික ප්‍රවාහන වෛද්‍ය ආයතනයේ ඉදිරිපස අව් වැසි ආවරණයක් ඉදිකිරීම | E18: 1000000 | L18: √ | M18: 970000 | N18: බිල පියවා ඇත.
A19: එකතුව | E19: =E18+E17 -> 2050000 | G19: 0 | H19: 0 | I19: 0 | J19: 0 | K19: 0 | L19: 2 | M19: =SUM(M17:M18) -> 1881553.1
A20: 3 | B20: රෙජිස්ට්‍රාර් ජනරාල් දෙපාර්තමේන්තුව | C20: 12 | D20: මහනුවර දිස්ත්‍රික් සහකාර රෙජිස්ට්‍රාර් ජනරාල් කාර්යාලයේ අභ්‍යන්තර බෙදා වෙන්කිරීම හා තීන්තආලේප කිරීම | E20: 630000 | L20: √ | M20: 617736.52 | N20: බිල පියවා ඇත.
A21: එකතුව | E21: 630000 | G21: 0 | H21: 0 | I21: 0 | J21: 0 | K21: 0 | L21: 1 | M21: 617736.52
A25: 4 | B25: දිස්ත්‍රික් ලේකම් කාර්යාලය ,මහනුවර | C25: 13 | D25: කාර්යාලයේ ලේඛනාගාරයේ රාක්ක සවිකිරීම | E25: 185000 | L25: √ | M25: 185000 | N25: බිල පියවා ඇත.
A26: එකතුව | E26: 185000 | G26: 0 | H26: 0 | I26: 0 | J26: 0 | K26: 0 | L26: 1 | M26: 185000
A27: 5 | B27: ග්‍රාමීය හා පාසල්ක්‍රීඩා යටිතල පහසුකම් ප්‍රවර්ධන රාජ්‍ය අමාත්‍යාංශය | C27: 14 | D27: ඔගස්ටාවත්ත ක්‍රීඩා පිටිය සංවර්ධනය කිරීම | E27: 1500000 | L27: √ | M27: 1470000 | N27: බිල පියවා ඇත.
A28: එකතුව | E28: 1500000 | G28: 0 | H28: 0 | I28: 0 | J28: 0 | K28: 0 | L28: 1 | M28: 1470000
A29: 6 | B29: දහම් පාසල් පිරිවෙන් හා භික්ෂූ අධ්‍යාපන රාජ්‍ය අමාත්‍යාංශය | C29: 15 | D29: පිටකන්දගම , ශ්‍රී ධර්මරාජ පිරිවෙන් ගොඩනැගිල්ලේ කොන්ක්‍රීට් තට්ටුවක් (ස්ලැබ්) දැමීම | E29: 1000000 | L29: √ | M29: 970000 | N29: බිල පියවා ඇත.
C30: 16 | D30: පැණිදෙණිය, ශ්‍රී භාරතීය පිරිවෙනේ බහු කාර්යය ගොඩනැගිල්ල ඉදිකිරීම | E30: 1000000 | L30: √ | M30: 980000 | N30: බිල පියවා ඇත.
C31: 17 | D31: ලෙව්ල, ශ්‍රි ජිනේන්ද්‍රාරාම විද්‍යාලෝක පිරිවෙනේ භික්ෂු නේවාසිකාගාරයේ වහලය සෙවිලි කිරීම | E31: 1000000 | L31: √ | M31: 969999.14 | N31: බිල පියවා ඇත.
C32: 18 | D32: දංගොල්ල, ශ්‍රී විමලධර්ම පිරිවෙනේ වැසිකිලි පද්ධතිය අළුත්වැඩියා කිරීම | E32: 1000000 | L32: √ | M32: 980000 | N32: බිල පියවා ඇත.
A33: එකතුව | E33: =SUM(E29:E32) -> 4000000 | F33: 0 | G33: 0 | H33: 0 | I33: 0 | J33: 0 | K33: 1 | L33: 4 | M33: =SUM(M29:M32) -> 3899999.1
A34: 7 | B34: හින්දු ආගමික හා සංස්කෘතික කටයුතු දෙපාර්තමේන්තුව | C34: 19 | D34: ශ්‍රී මුත්තුමාරි අම්මාන් කෝවිල ප්‍රතිසංස්කරණ කටයුතු | E34: 100000 | L34: √ | N34: බිල පියවීමට ඇත.
C35: 20 | D35: ශ්‍රී රාමර් කෝවිල ප්‍රතිසංස්කරණ කටයුතු | E35: 100000 | L35: √
A36: එකතුව | E36: =E34+E35 -> 200000 | F36: 0 | G36: 0 | H36: 0 | I36: 2 | J36: 0 | K36: 0 | L36: 2
A37: 8 | B37: කන්ද උඩරට උරුමය සුරැකීම සඳහා අන්තර් ව්‍යවස්ථාපිත මණ්ඩලය | C37: 21 | D37: මහනුවර කතරගම දේවාල භූමියේ පිහියා ඇති කතරගම දේවාල පන්සලේ ආවාස ගෙයෙහි වහලය අළුත්වැඩියා කිරීම | E37: 2250000 | L37: √ | M37: 2182500 | N37: බිල පියවා ඇත.
A38: එකතුව | E38: 2250000 | F38: 0 | G38: 0 | H38: 1 | I38: 0 | J38: 0 | K38: 0 | L38: 1 | M38: =SUM(M37) -> 2182500
A39: 9 | B39: සමෘද්ධි,ගෘහ ආර්ථික, ක්ෂූද්‍ර මුල්‍ය, ස්වයං රැකියා හා ව්‍යාපාර සංවර්ධන රාජ්‍ය අමාත්‍යාංශය | C39: 22 | D39: කාර්යාලයේ උපදේශන නිලධාරින් සඳහා උපදේශන කාමර පහසුකම් ලබාදීම | E39: 155000 | L39: √ | M39: 155000 | N39: බිල පියවා ඇත.
A40: එකතුව | E40: 155000 | F40: 0 | G40: 0 | H40: 0 | I40: 0 | J40: 0 | K40: 0 | L40: 1 | M40: 155000
A41: 10 | B41: ජාතික ලේඛනාරාක්ෂක දෙපාර්තමේන්තුව | C41: 23 | D41: ජාතික ලේඛනාරාක්ෂක දෙපාර්තමේන්තුවේ මහනුවර ශාඛා ගොඩනැගිල්ලේ ඉදිරිපස වහළය සැකසීම | E41: 400000 | L41: √ | M41: 388000 | N41: බිල පියවා ඇත.
C42: 24 | D42: ජාතික ලේඛනාරාක්ෂක දෙපාර්තමේන්තුවේ මහනුවර ශාඛා ගොඩනැගිල්ලේ වැසිකිළි/කැසිකිළි පද්ධතිය අලුත්වැඩියා කිරීම | E42: 425000 | L42: √ | M42: 412250
A43: එකතුව | E43: =SUM(E41:E42) -> 825000 | F43: 0 | G43: 0 | H43: 0 | I43: 0 | J43: 0 | K43: 0 | L43: 2 | M43: =SUM(M41:M42) -> 800250
A44: 11 | B44: පුද්ගලයින් ලියාපදිංචි කිරීමේ දෙපාර්තමේන්තුව | C44: 25 | D44: කාර්යාලයේ පුද්ගලයින් ලියාපදිංචි කිරීමේ අංශය නවීකරණය කිරීම (විදුලි පරිපථ සකස් කිරීම) | E44: 80000 | L44: √ | M44: 77796.31 | N44: බිල පියවා ඇත.
...

Sheet සමරිය
A1: 2021 වර්ෂය - රේඛීය අමාත්‍යාංශය ( මධ්‍යම රජය) 2021.12.31 වන දිනට ප්‍රගතිය | Y1: .
B2: ප්‍රාදේශීය ලේකම් කොට්ඨාසය - ගඟවටකෝරළය
A4: අනු අංකය | B4: අමාත්‍යාංශය | C4: ව්‍යාපෘති සංඛ්‍යාව | D4: වෙන් කල මුදල (රු.) | E4: ඉදිකිරිම් | F4: මිලදී ගැනිම් | G4: මුල්‍ය (රු.) | I4: 0- 5% | J4: ='මුළු ව්‍යාපෘති'!G5 -> 6% -25 % | K4: ='මුළු ව්‍යාපෘති'!H5 -> 26% - 40 % | L4: ='මුළු ව්‍යාපෘති'!I5 -> 41 % - 60 % | M4: ='මුළු ව්‍යාපෘති'!J5 -> 61 % - 80 % | N4: 81%-99% | O4: ='මුළු ව්‍යාපෘති'!L5 -> වැඩ අවසන්
A6: 1 | B6: බුද්ධශාසන ,ආගමික හා සංස්කෘතික කටයුතු දෙපාර්තමේන්තුව | C6: 9 | D6: 9850000 | E6: 7 | F6: 2 | G6: 9656490.2 | I6: 0 | J6: 0 | K6: 0 | L6: 0 | M6: 0 | N6: 0 | O6: 9
A7: 2 | B7: ජාතික ප්‍රවාහන වෛද්‍ය ආයතන | C7: 2 | D7: 2050000 | E7: 2 | G7: 1881553.1 | I7: 0 | J7: 0 | K7: 0 | L7: 0 | M7: 0 | N7: 0 | O7: 2
A8: 3 | B8: රෙජිස්ට්‍රාර් ජනරාල් දෙපාර්තමේන්තුව | C8: 1 | D8: 630000 | E8: 1 | G8: 617736.52 | I8: 0 | J8: 0 | K8: 0 | L8: 0 | M8: 0 | N8: 0 | O8: 1
A9: 4 | B9: ග්‍රාමීය හා පාසල්ක්‍රීඩා යටිතල පහසුකම් ප්‍රවර්ධන රාජ්‍ය අමාත්‍යාංශය | C9: 1 | D9: 1500000 | E9: 1 | G9: 1470000 | H9: =SUM(G9) -> 1470000 | I9: 0 | J9: 0 | K9: 0 | L9: 0 | M9: 0 | N9: 0 | O9: 1
A10: 5 | B10: දිස්ත්‍රික් ලේකම් කාර්යාලය | C10: 1 | D10: 185000 | E10: 1 | G10: 185000 | I10: 0 | J10: 0 | K10: 0 | L10: 0 | M10: 0 | N10: 0 | O10: 1
A11: 6 | B11: හින්දු ආගමික හා සංස්කෘතික කටයුතු දෙපාර්තමේන්තු | C11: 2 | D11: 200000 | E11: 2 | I11: 0 | J11: 0 | K11: 0 | L11: 0 | M11: 0 | N11: 0 | O11: 2
A12: 7 | B12: දහම් පාසල් පිරිවෙන් හා භික්ෂූ අධ්‍යාපන රාජ්‍ය අමාත්‍යාංශය | C12: 4 | D12: 4000000 | E12: 4 | G12: 3899999.1 | H12: =SUM(G12) -> 3899999.1 | I12: 0 | J12: 0 | K12: 0 | L12: 0 | M12: 0 | N12: 0 | O12: 4
A13: 8 | B13: කන්ද උඩරට උරුමය සුරැකීම සඳහා අන්තර් ව්‍යවස්ථාපිත මණ්ඩලය | C13: 1 | D13: 2250000 | E13: 1 | G13: 2182500 | H13: =SUM(G13) -> 2182500 | I13: 0 | J13: 0 | K13: 0 | L13: 0 | M13: 0 | N13: 0 | O13: 1
A14: 9 | B14: සමෘද්ධි,ගෘහ ආර්ථික, ක්ෂූද්‍ර මුල්‍ය, ස්වයං රැකියා හා ව්‍යාපාර සංවර්ධන රාජ්‍ය අමාත්‍යාංශය | C14: 1 | D14: 155000 | E14: 1 | G14: 155000 | H14: =SUM(G14) -> 155000 | I14: 0 | J14: 0 | K14: 0 | L14: 0 | M14: 0 | N14: 0 | O14: 1
A15: 10 | B15: ජාතික ලේඛනාරාක්ෂක දෙපාර්තමේන්තුව | C15: 2 | D15: 825000 | E15: 2 | G15: 800250 | H15: =SUM(G15) -> 800250 | I15: 0 | J15: 0 | K15: 0 | L15: 0 | M15: 0 | N15: 0 | O15: 2
A16: 11 | B16: පුද්ගලයින් ලියාපදිංචි කිරීමේ දෙපාර්මේන්තුව | C16: 1 | D16: 80000 | E16: 1 | G16: 77796.31 | H16: =SUM(G16) -> 77796.31 | I16: 0 | J16: 0 | K16: 0 | L16: 0 | M16: 0 | N16: 0 | O16: 1
C17: =SUM(C6:C16) -> 25 | D17: =SUM(D6:D16) -> 21725000 | E17: =SUM(E6:E16) -> 23 | F17: =SUM(F6:F10) -> 2 | G17: =SUM(G6:G16) -> 20926325 | I17: =SUM(I6:I16) -> 0 | J17: =SUM(J6:J16) -> 0 | K17: =SUM(K6:K16) -> 0 | L17: =SUM(L6:L16) -> 0 | M17: =SUM(M6:M16) -> 0 | N17: =SUM(N6:N16) -> 0 | O17: =SUM(O6:O16) -> 25
A24: Description for rating | F24: Rates | G24: Percentage Range
A25: ඇස්තමේන්තු සකසමින් පවති/සකස්කිරිමට ඇත සහ මුලික වැඩ ආරම්භ කර ඇත | F25: A | G25: (0 - 5%)
A26: ඉදිකිරිම් - ඇස්තමේන්තු සකසා අනුමත කර,ලංසු ලේඛන සකසා ඇත, මිල ගණන් කැඳවා ඇත,ටෙන්ඩර් පිරිනමා ඇත. (25% වැඩ අවසන්) | F26: B | G26: (6- 25%)
A27: වෙනත් - භාණ්ඩ /උපකරණ ලබාදීමට අදාල ආයතන හා ප්‍රජා සංවිධාන හඳුනාගෙන ඇත, භාණ්ඩ /උපකරණ අවශ්‍යතා ලබා ගෙන ඇත. ඇස්තමේන්තු සකසා ඇත.
A28: Construction : ඉදිකිරිම් වැඩ ආරම්භ කර ඇත, (40 % වැඩ අවසන්) Other : භාණ්ඩ /උපකරණ ලැබී ඇත. | F28: C | G28: (26 % -40%)
A29: Construction : 60 % වැඩ අවසන් Other : භාණ්ඩ /උපකරණ ලැබී ඇත. | F29: D | G29: (41 % -60%)
A30: Construction : 80 % වැඩ අවසන් Other : භාණ්ඩ /උපකරණ ලැබී ඇත. | F30: E | G30: (61 % -80%)
A31: Construction : 99% වැඩ අවසන් Other : ප්‍රතිලාභින් සහ භාණ්ඩ ලේඛන සකසා අවසන් කර ඇත. | F31: F | G31: (81 % -99 %)
A32: Construction : 100% වැඩ අවසන් Other : හඳුනාගත් ආයතන සහ ප්‍රජා සංවිධාන සඳහා භාණ්ඩ නිකුත් අවසන් | F32: G | G32: 100 %)

Sheet WEEKLY PROGRESS
A2: 2021 සංවර්ධන වැඩසටහන්වල 2021.10.28 දිනට ප්‍රගතිය
A3: මහනුවර දිස්ත්‍රික්කය
A4: ප්‍රාදේශීය ලේකම් කොට්ඨාසය : මහනුවර කඩවත්සතර සහ ගඟවටකෝරළේ ප්‍රාදේශීය ලේකම් කාර්යාලය
A7: අනු අංකය | B7: අමාත්‍යාංශය | C7: භෞතික ප්‍රගතිය (%) | K7: මුල්‍ය ප්‍රගතිය | N7: සංශෝධන
C8: ව්‍යාපෘති සංඛ්‍යාව | D8: 0- 5% | E8: 6% - 25 % | F8: 26% - 40% | G8: 41% - 60% | H8: 61 %- 80% | I8: 81 %-99% | J8: වැඩ අවසන්
K9: වෙන් වු මුදල (රු.) | L9: වියදම (රු.) | M9: ප්‍රතිශතය (%)
A10: 1 | B10: ඌන සංවර්ධිත විහාරස්ථාන සහ දහම් පාසල් සංවර්ධනය (බුද්ධ ශාසන අමාත්‍යාශය ) | C10: 7 | D10: 0 | E10: 0 | F10: 2 | G10: 0 | H10: 1 | I10: 0 | J10: 4 | K10: =6600000+K11 -> 8100000 | L10: 3676541.2
A11: 2 | B11: අයහපත් කාලගුණයෙන් විපතට පත් විහාර සංවර්ධනය (බුද්ධ ශාසන අමාත්‍යාශය ) | C11: 1 | D11: 0 | E11: 0 | F11: 1 | G11: 0 | H11: 0 | I11: 0 | J11: 0 | K11: 1500000
A12: 3 | B12: පුණ්‍ය ග්‍රාම වැඩසටහන | C12: 1 | D12: 0 | E12: 0 | F12: 0 | G12: 0 | H12: 0 | I12: 0 | J12: 1 | K12: 250000
A13: 4 | B13: දහම් පාසල් සහ පිරිවෙන් සංවර්ධන වැඩසටහන (දහම් පාසල් පිරිවෙන් හා භික්ෂු අධ්‍යාපන රාජ්‍ය අමාත්‍යාංශය) | C13: 4 | D13: 0 | E13: 0 | F13: 4 | G13: 0 | H13: 0 | I13: 0 | J13: 0 | K13: 4000000
A14: මුළු එකතුව | C14: 13 | D14: 0 | E14: 0 | F14: =SUM(F10:F13) -> 7 | G14: =SUM(G10:G13) -> 0 | H14: =SUM(H10:H13) -> 1 | I14: =SUM(I10:I13) -> 0 | J14: =SUM(J10:J13) -> 5 | K14: =SUM(K10:K13) -> 13850000

Sheet DETAILS

Sheet DETAILES
A2: 2021 සංවර්ධන වැඩසටහන්වල 2021.10.28 දිනට ප්‍රගතිය
A3: මහනුවර දිස්ත්‍රික්කය
A4: ප්‍රාදේශීය ලේකම් කොට්ඨාසය : මහනුවර කඩවත්සතර සහ ගඟවටකෝරළේ ප්‍රාදේශීය ලේකම් කාර්යාලය
A6: අනු අංකය | B6: වැඩසටහන | F6: ව්‍යාපෘති අංකය | G6: ව්‍යාපෘතිය | H6: භෞතික ප්‍රගතිය | O6: මුල්‍ය ප්‍රගතිය
H7: 0 5 % | I7: 6% - 25 % | J7: 26% - 40% | K7: 41% - 60% | L7: 61 %- 80% | M7: 81 %-99% | N7: වැඩ අවසන්
O8: වෙන් වු මුදල (රු) | P8: වියදම (රු.) | Q8: ප්‍රතිශතය
A9: 1 | B9: ඌන සංවර්ධිත විහාරස්ථාන හා දහම් පාසල් සංවර්ධනය කිරීමේ වැඩසටහන | F9: 1 | G9: පහළ ඊරියගම , ශ්‍රී සුබෝධාරාම විහාරස්ථානයේ ආපදාවකට ලක් වු අටවිසි මන්දිරයේ වහළය ප්‍රතිසංස්කරණය කිරීම | N9: √ | O9: 2000000 | P9: 1940000
F11: 2 | G11: අස්ගිරිය,ගුන්නෑපාන ශ්‍රී විජේසුන්දාරාම විහාරස්ථානයේ නව සංඝාවාස ගොඩනැගිල්ල ඉදිකිරිම් සඳහා ඉදිකිරිම් ද්‍රව්‍ය ලබා දීම | N11: √ | O11: 1000000 | P11: 327541.25
F12: 3 | G12: අස්ගිරිය, මැද පන්සල විහාරස්ථානයේ වැසිකිලි පද්ධතියක් ඉදිකිරීම | N12: √ | O12: 400000 | P12: 388000
F13: 4 | G13: අස්ගිරිය මැදගම විහාරස්ථානයේ ආගන්තුක භීක්ෂු නේවාසික කාමර ද්විත්වයේ ඉතිරි වැඩ කිරීම | N13: √ | O13: 800000 | P13: 776000
F14: 5 | G14: පේරාදෙණිය, කුරුකුදේ විහාරස්ථානයේ සුමංගල දහම්පාසල සඳහා දහම් පාසල් ගොඩනැගිල්ලක් ඉදිකිරීම | N14: √ | O14: 250000 | P14: 245000
F15: 6 | G15: හන්තාන තපෝදාරාම විහාරස්ථානයේ (සිරි සීල විමල දහම් පාසලේ )ඉදිකරමින් පවතින දහම් පාසල් ගොඩනැගිල්ලේ වැඩ නිමකිරීම. | M15: √ | O15: 3000000
F16: 7 | G16: ශ්‍රී සුමනතිස්ස දහම් පාසල් ( ශ්‍රී මහා විහාර පිරිවෙන,අස්ගිරිය විහාරය) සිසුන් සඳහා SMART INTERRACTIVE BOARD SIB 85 ලබා ගැනීම | M16: √ | O16: 650000
A17: එකතුව | H17: 0 | I17: 0 | J17: 0 | K17: 0 | L17: 0 | M17: 2 | N17: 5 | O17: =SUM(O9:O16) -> 8100000 | P17: =SUM(P9:P16) -> 3676541.2
A18: 2 | B18: අයහපත් කාලගුණයෙන් විපතට පත් විහාරස්ථාන සංවර්ධනය | F18: 8 | G18: මල්වතු මහ විහාරය ,හරංකහව විහාරස්ථානයේ ආරක්ෂීත පැති බැම්ම ඉදිකිරීමට අදාලව ඉදිකිරිම් ද්‍රව්‍ය ලබාදීම | J18: √ | O18: 1500000
A19: එකතුව | H19: 0 | I19: 0 | J19: 1 | K19: 0 | L19: 0 | M19: 0 | N19: 0 | O19: 1500000
A20: 3 | B20: පුණ්‍ය ග්‍රාම වැඩසටහන | F20: 9 | G20: වට්ටාරන්තැන්න,ශ්‍රී පුරාණ ගල්ලෙන් විහාරයේ භීක්ෂුන් වහන්සේ සඳහා වැසිකිළි පද්ධතියක් ඉදිකිරීම | N20: √ | O20: 250000
A21: එකතුව | H21: 0 | I21: 0 | J21: 0 | K21: 0 | L21: 0 | M21: 0 | N21: 1 | O21: 250000
A22: 4 | B22: දහම් පාසල් හා පිරිවෙන් සංවර්ධන වැඩසටහන | F22: 10 | G22: පිටකන්දගම , ශ්‍රී ධර්මරාජ පිරිවෙන් ගොඩනැගිල්ලේ කොන්ක්‍රීට් තට්ටුවක් (ස්ලැබ්) දැමීම | J22: √ | O22: 1000000
F23: 11 | G23: පැණිදෙණිය, ශ්‍රී භාරතීය පිරිවෙනේ බහු කාර්යය ගොඩනැගිල්ල ඉදිකිරීම | J23: √ | O23: 1000000
F24: 12 | G24: ලෙව්ල, ශ්‍රි ජිනේන්ද්‍රාරාම විද්‍යාලෝක පිරිවෙනේ භික්ෂු නේවාසිකාගාරයේ වහලය සෙවිලි කිරීම | J24: √ | O24: 1000000
F25: 13 | G25: දංගොල්ල, ශ්‍රී විමලධර්ම පිරිවෙනේ වැසිකිලි පද්ධතිය අළුත්වැඩියා කිරීම | J25: √ | O25: 1000000
A26: එකතුව | H26: 0 | I26: 0 | J26: 4 | K26: 0 | L26: 0 | M26: 0 | N26: 0 | O26: =SUM(O22:O25) -> 4000000
A27: මුළු එකතුව | H27: 0 | I27: 0 | J27: 7 | K27: 0 | L27: 1 | M27: 0 | N27: 5 | O27: =O26+O21+O19+O17 -> 13850000 | P27: 3676541.2
