Workbook

Sheet මුළු ව්‍යාපෘති
A1: 2021 රේඛීය අමාත්‍යාංශය (පළාත් සභා) - 2021.12.31 දිනට ප්‍රගතිය
A3: ප්‍රාදේශීය ලේකම් කොට්ඨාසය - ගගවටකෝරළය
A6: අමාත්‍යාංශ අනු අංක | B6: අමාත්‍යාංශය | C6: ව්‍යාපෘති අනු අංක | D6: ව්‍යාපෘතිය | E6: වෙන් වූ මුදල රු. | M6: මුල්‍ය ප්‍රගතිය | N6: වෙනත්
F7: 0 | G7: 01%-10% | H7: 11%-25% | I7: 26%-50% | J7: 51%-75% | K7: 76%-100% | L7: වැඩ අවසන්
A8: 1 | B8: ග්‍රාම සංවර්ධන දෙපාර්තමේන්තුව - මධ්‍යම පළාත | C8: 1 | D8: මී කණුව ප්‍රජා ශාලාව සංවර්ධනය කිරීම | E8: 500000 | L8: √ | M8: 500000
A9: එකතුව | E9: 500000 | F9: 0 | G9: 0 | H9: 0 | I9: 1 | J9: 0 | K9: 0 | L9: 0 | M9: 500000
A10: 2 | B10: සංස්කෘතික කටයුතු දෙපාර්තමේන්තුව (මධ්‍යම පළාත) | C10: 2 | D10: කටුගස්තොට සිරි මිහිඳු පාසල සඳහා උපකරණ ලබාදීම | E10: 50000 | L10: √ | M10: 49500
A11: එකතුව | E11: =SUM(E10:E10) -> 50000 | F11: 0 | G11: 0 | H11: 0 | I11: 0 | J11: 0 | K11: 0 | L11: 1 | M11: 49500
A19: මුළු එකතුව | E19: =E11+E9 -> 550000 | F19: 0 | G19: 0 | H19: 0 | I19: 0 | J19: 0 | K19: 0 | L19: 2 | M19: =M9+M11 -> 549500
A22: සැකසුම :
A25: නිර්දේශය : | E25: අනුමැතිය :

Sheet සමරිය
A1: 2021 රේඛීය අමාත්‍යාංශය (පළාත් සභා ) 2021.12.31 දිනට ප්‍රගතිය
A2: ප්‍රාදේශීය ලේකම් කොට්ඨාසය - ගගවටකෝරළය
A3: අමාත්‍යාංශ අනු අංක | B3: අමාත්‍යාංශය | C3: ව්‍යාපෘති සංඛ්‍යාව | D3: වෙන් කල මුදල රු. | E3: ඉදි කිරීම් ව්‍යාපෘති | F3: මිලදී ගැනීම් ව්‍යාපෘති | G3: මුල්‍ය රු. | I3: ='මුළු ව්‍යාපෘති'!G7 -> 01%-10% | J3: ='මුළු ව්‍යාපෘති'!H7 -> 11%-25% | K3: ='මුළු ව්‍යාපෘති'!I7 -> 26%-50% | L3: ='මුළු ව්‍යාපෘති'!J7 -> 51%-75% | M3: 76% -100% | N3: ='මුළු ව්‍යාපෘති'!L7 -> වැඩ අවසන්
H4: 0
A5: 1 | B5: ග්‍රාම සංවර්ධන දෙපාර්තමේන්තුව (මධ්‍යම පළාත ) | C5: 1 | D5: 500000 | E5: 1 | G5: 500000 | H5: 0 | I5: 0 | J5: 0 | K5: 0 | L5: 0 | M5: 0 | N5: 1
A6: 2 | B6: සංස්කෘතික කටයුතු දෙපාර්තමේන්තුව (මධ්‍යම පළාත) | C6: 1 | D6: 50000 | E6: 0 | F6: 1 | G6: 49500 | H6: 0 | I6: 0 | J6: 0 | K6: 0 | L6: 0 | M6: 0 | N6: 1
A17: එකතුව | C17: 2 | D17: =SUM(D5:D16) -> 550000 | E17: 1 | F17: 1 | G17: =SUM(G5:G16) -> 549500 | H17: 0 | I17: 0 | J17: 0 | K17: 0 | L17: 0 | M17: 0 | N17: 2
A19: සැකසුම :
A22: නිර්දේශය : | E22: අනුමැතිය :
A26: 0 ඇස්තමේන්තු නොකළ
A27: 01%-10% ඇස්තමේන්තු ගත | E27: 51%- 75% ක්‍රියාත්මක
A28: 11% - 25% ගිවිසුම්ගත | E28: 76% - 99% අවසන් වීමට ආසන්න
A29: 26%- 50% ගිව්සුම්ගතව ආරම්භ කර ඇති

Sheet Sheet3
A1: 2016 රේඛීය අමාත්‍යාංශ වල 2016.12.23දිනට ප්‍රගතිය
A2: ප්‍රාදේශීය ලේකම් කොට්ඨාශය - ගගවටකෝරළය
A3: අමාත්‍යාංශ අනු අංක | B3: අමාත්‍යාංශය | C3: ව්‍යාපෘති සංඛ්‍යාව | D3: වෙන් කල මුදල රු. | E3: ඉදි කිරීම් ව්‍යාපෘති | F3: මිලදී ගැනීම් ව්‍යාපෘති | G3: මුල්‍ය රු. | H3: ='මුළු ව්‍යාපෘති'!G7 -> 01%-10% | I3: ='මුළු ව්‍යාපෘති'!H7 -> 11%-25% | J3: ='මුළු ව්‍යාපෘති'!I7 -> 26%-50% | K3: ='මුළු ව්‍යාපෘති'!J7 -> 51%-75% | L3: 76% -100% | M3: ='මුළු ව්‍යාපෘති'!L7 -> වැඩ අවසන්
A5: 1 | B5: සමාජ සුභ සාධන, පරිවාස හා ළමා රක්ෂණ සේවා කටයුතු දෙපාර්තමේන්තුව | C5: ='මුළු ව්‍යාපෘති'!#REF!+'මුළු ව්‍යාපෘති'!#REF!+'මුළු ව්‍යාපෘති'!#REF!+'මුළු ව්‍යාපෘති'!#REF!+'මුළු ව්‍යාපෘති'!#REF!+'මුළු ව්‍යාපෘති'!#REF! -> #REF! | D5: ='මුළු ව්‍යාපෘති'!#REF! -> #REF! | E5: ='මුළු ව්‍යාපෘති'!#REF!+'මුළු ව්‍යාපෘති'!#REF!+'මුළු ව්‍යාපෘති'!#REF!+'මුළු ව්‍යාපෘති'!#REF!+'මුළු ව්‍යාපෘති'!#REF!+'මුළු ව්‍යාපෘති'!#REF! -> #REF! | F5: - | G5: ='මුළු ව්‍යාපෘති'!#REF! -> #REF! | H5: ='මුළු ව්‍යාපෘති'!#REF! -> #REF! | I5: ='මුළු ව්‍යාපෘති'!#REF! -> #REF! | J5: ='මුළු ව්‍යාපෘති'!#REF! -> #REF! | K5: ='මුළු ව්‍යාපෘති'!#REF! -> #REF! | L5: ='මුළු ව්‍යාපෘති'!#REF! -> #REF! | M5: ='මුළු ව්‍යාපෘති'!#REF! -> #REF! | N5: =D5-G5 -> #REF!
A6: 2 | B6: බුද්ධශාසන අමාත්‍යාංශය | C6: ='මුළු ව්‍යාපෘති'!#REF!+'මුළු ව්‍යාපෘති'!#REF!+'මුළු ව්‍යාපෘති'!#REF!+'මුළු ව්‍යාපෘති'!#REF!+'මුළු ව්‍යාපෘති'!#REF!+'මුළු ව්‍යාපෘති'!#REF! -> #REF! | D6: ='මුළු ව්‍යාපෘති'!#REF! -> #REF! | E6: ='මුළු ව්‍යාපෘති'!#REF!+'මුළු ව්‍යාපෘති'!#REF!+'මුළු ව්‍යාපෘති'!#REF!+'මුළු ව්‍යාපෘති'!#REF!+'මුළු ව්‍යාපෘති'!#REF!+'මුළු ව්‍යාපෘති'!#REF! -> #REF! | F6: - | G6: ='මුළු ව්‍යාපෘති'!#REF! -> #REF! | H6: ='මුළු ව්‍යාපෘති'!#REF! -> #REF! | I6: ='මුළු ව්‍යාපෘති'!#REF! -> #REF! | J6: ='මුළු ව්‍යාපෘති'!#REF! -> #REF! | K6: ='මුළු ව්‍යාපෘති'!#REF! -> #REF! | L6: ='මුළු ව්‍යාපෘති'!#REF! -> #REF! | M6: ='මුළු ව්‍යාපෘති'!#REF! -> #REF! | N6: =D6-G6 -> #REF!
A7: 3 | B7: අපදා කළමනාකරණ | C7: 1 | D7: 1465500 | E7: 1 | F7: - | G7: ='මුළු ව්‍යාපෘති'!M9 -> 500000 | H7: ='මුළු ව්‍යාපෘති'!G9 -> 0 | I7: ='මුළු ව්‍යාපෘති'!I9 -> 1 | J7: ='මුළු ව්‍යාපෘති'!#REF! -> #REF! | K7: ='මුළු ව්‍යාපෘති'!J9 -> 0 | L7: ='මුළු ව්‍යාපෘති'!K9 -> 0 | M7: ='මුළු ව්‍යාපෘති'!L9 -> 0 | N7: =D7-G7 -> 965500
A8: 4 | B8: අපනයන කෘෂිකර්ම දෙපාර්තමේන්තුව | C8: 5 | D8: 3350000 | E8: 5 | F8: - | G8: ='මුළු ව්‍යාපෘති'!M11 -> 49500 | H8: ='මුළු ව්‍යාපෘති'!G11 -> 0 | I8: ='මුළු ව්‍යාපෘති'!H11 -> 0 | J8: ='මුළු ව්‍යාපෘති'!I11 -> 0 | K8: ='මුළු ව්‍යාපෘති'!J11 -> 0 | L8: ='මුළු ව්‍යාපෘති'!K11 -> 0 | M8: ='මුළු ව්‍යාපෘති'!L11 -> 1 | N8: =D8-G8 -> 3300500
A9: 5 | B9: සමාජ සේවා දෙපාර්තමේන්තුව | C9: ='මුළු ව්‍යාපෘති'!G16+'මුළු ව්‍යාපෘති'!H16+'මුළු ව්‍යාපෘති'!I16+'මුළු ව්‍යාපෘති'!J16+'මුළු ව්‍යාපෘති'!K16+'මුළු ව්‍යාපෘති'!L16 -> 0 | D9: ='මුළු ව්‍යාපෘති'!E16 -> 0 | E9: =C9 -> 0 | F9: - | G9: ='මුළු ව්‍යාපෘති'!M16 -> 0 | H9: ='මුළු ව්‍යාපෘති'!G16 -> 0 | I9: ='මුළු ව්‍යාපෘති'!H16 -> 0 | J9: ='මුළු ව්‍යාපෘති'!I16 -> 0 | K9: ='මුළු ව්‍යාපෘති'!J16 -> 0 | L9: ='මුළු ව්‍යාපෘති'!K16 -> 0 | M9: ='මුළු ව්‍යාපෘති'!L16 -> 0 | N9: =D9-G9 -> 0
A10: 8 | B10: අධිකරණ අමාත්‍යාංශය | C10: 1 | D10: 121406.5 | E10: 1 | F10: - | G10: 109902.95 | H10: ='මුළු ව්‍යාපෘති'!G18 -> 0 | I10: ='මුළු ව්‍යාපෘති'!H18 -> 0 | J10: ='මුළු ව්‍යාපෘති'!I18 -> 0 | K10: ='මුළු ව්‍යාපෘති'!J18 -> 0 | L10: ='මුළු ව්‍යාපෘති'!K18 -> 0 | M10: ='මුළු ව්‍යාපෘති'!L18 -> 0 | N10: =D10-G10 -> 11503.55
A11: 10 | B11: විශ්‍රාම වැටුප් දෙපාර්තමේන්තුව | C11: ='මුළු ව්‍යාපෘති'!#REF!+'මුළු ව්‍යාපෘති'!#REF!+'මුළු ව්‍යාපෘති'!#REF!+'මුළු ව්‍යාපෘති'!#REF!+'මුළු ව්‍යාපෘති'!#REF!+'මුළු ව්‍යාපෘති'!#REF! -> #REF! | D11: ='මුළු ව්‍යාපෘති'!#REF! -> #REF! | E11: 1 | F11: - | H11: ='මුළු ව්‍යාපෘති'!#REF! -> #REF! | I11: ='මුළු ව්‍යාපෘති'!#REF! -> #REF! | J11: ='මුළු ව්‍යාපෘති'!#REF! -> #REF! | K11: ='මුළු ව්‍යාපෘති'!#REF! -> #REF! | L11: ='මුළු ව්‍යාපෘති'!#REF! -> #REF! | M11: ='මුළු ව්‍යාපෘති'!#REF! -> #REF! | N11: =D11-G11 -> #REF!
A12: 11 | B12: හින්දු ආගමික හා සංස්කෘතික කටයුතු දෙපාර්තමේන්තුව | C12: 1 | D12: ='මුළු ව්‍යාපෘති'!#REF! -> #REF! | E12: 1 | F12: - | H12: ='මුළු ව්‍යාපෘති'!#REF! -> #REF! | I12: ='මුළු ව්‍යාපෘති'!#REF! -> #REF! | J12: ='මුළු ව්‍යාපෘති'!#REF! -> #REF! | K12: ='මුළු ව්‍යාපෘති'!#REF! -> #REF! | L12: ='මුළු ව්‍යාපෘති'!#REF! -> #REF! | M12: ='මුළු ව්‍යාපෘති'!#REF! -> #REF! | N12: =D12-G12 -> #REF!
A13: 12 | B13: රාජ්‍ය පරිපාලන අමාත්‍යාංශය | C13: ='මුළු ව්‍යාපෘති'!#REF!+'මුළු ව්‍යාපෘති'!#REF!+'මුළු ව්‍යාපෘති'!#REF!+'මුළු ව්‍යාපෘති'!#REF!+'මුළු ව්‍යාපෘති'!#REF!+'මුළු ව්‍යාපෘති'!#REF! -> #REF! | D13: ='මුළු ව්‍යාපෘති'!#REF! -> #REF! | E13: 1 | F13: - | H13: ='මුළු ව්‍යාපෘති'!#REF! -> #REF! | I13: ='මුළු ව්‍යාපෘති'!#REF! -> #REF! | J13: ='මුළු ව්‍යාපෘති'!#REF! -> #REF! | K13: ='මුළු ව්‍යාපෘති'!#REF! -> #REF! | L13: ='මුළු ව්‍යාපෘති'!#REF! -> #REF! | M13: ='මුළු ව්‍යාපෘති'!#REF! -> #REF! | N13: =D13-G13 -> #REF!
A14: එකතුව | C14: =SUM(C5:C13) -> #REF! | D14: =SUM(D5:D13) -> #REF! | E14: =SUM(E5:E13) -> #REF! | F14: =SUM(F5:F10) -> 0 | G14: =SUM(G5:G13) -> #REF! | H14: =SUM(H5:H13) -> #REF! | I14: =SUM(I5:I13) -> #REF! | J14: =SUM(J5:J13) -> #REF! | K14: =SUM(K5:K13) -> #REF! | L14: =SUM(L5:L13) -> #REF! | M14: =SUM(M5:M13) -> #REF! | N14: =D14-G14 -> #REF!

Sheet Sheet2
A1: 2016 රේඛීය අමාත්‍යාංශ වල 2016.12.31දිනට ප්‍රගතිය
A2: ප්‍රාදේශීය ලේකම් කොට්ඨාශය - ගගවටකෝරළය
A3: අමාත්‍යාංශ අනු අංක | B3: අමාත්‍යාංශය | C3: ව්‍යාපෘති සංඛ්‍යාව | D3: වෙන් කල මුදල රු. | E3: ඉදි කිරීම් ව්‍යාපෘති | F3: මිලදී ගැනීම් ව්‍යාපෘති | G3: මුල්‍ය රු. | H3: ='මුළු ව්‍යාපෘති'!G7 -> 01%-10% | I3: ='මුළු ව්‍යාපෘති'!H7 -> 11%-25% | J3: ='මුළු ව්‍යාපෘති'!I7 -> 26%-50% | K3: ='මුළු ව්‍යාපෘති'!J7 -> 51%-75% | L3: 76% -100% | M3: ='මුළු ව්‍යාපෘති'!L7 -> වැඩ අවසන්
A5: 1 | B5: සමාජ සුභ සාධන, පරිවාස හා ළමා රක්ෂණ සේවා කටයුතු දෙපාර්තමේන්තුව - මධ්‍යම පලාත | C5: ='මුළු ව්‍යාපෘති'!#REF!+'මුළු ව්‍යාපෘති'!#REF!+'මුළු ව්‍යාපෘති'!#REF!+'මුළු ව්‍යාපෘති'!#REF!+'මුළු ව්‍යාපෘති'!#REF!+'මුළු ව්‍යාපෘති'!#REF! -> #REF! | D5: ='මුළු ව්‍යාපෘති'!#REF! -> #REF! | E5: ='මුළු ව්‍යාපෘති'!#REF!+'මුළු ව්‍යාපෘති'!#REF!+'මුළු ව්‍යාපෘති'!#REF!+'මුළු ව්‍යාපෘති'!#REF!+'මුළු ව්‍යාපෘති'!#REF!+'මුළු ව්‍යාපෘති'!#REF! -> #REF! | F5: - | G5: ='මුළු ව්‍යාපෘති'!#REF! -> #REF! | H5: ='මුළු ව්‍යාපෘති'!#REF! -> #REF! | I5: ='මුළු ව්‍යාපෘති'!#REF! -> #REF! | J5: ='මුළු ව්‍යාපෘති'!#REF! -> #REF! | K5: ='මුළු ව්‍යාපෘති'!#REF! -> #REF! | L5: ='මුළු ව්‍යාපෘති'!#REF! -> #REF! | M5: ='මුළු ව්‍යාපෘති'!#REF! -> #REF!
A6: 2 | B6: බුද්ධශාසන අමාත්‍යාංශය | C6: ='මුළු ව්‍යාපෘති'!#REF!+'මුළු ව්‍යාපෘති'!#REF!+'මුළු ව්‍යාපෘති'!#REF!+'මුළු ව්‍යාපෘති'!#REF!+'මුළු ව්‍යාපෘති'!#REF!+'මුළු ව්‍යාපෘති'!#REF! -> #REF! | D6: ='මුළු ව්‍යාපෘති'!#REF! -> #REF! | E6: ='මුළු ව්‍යාපෘති'!#REF!+'මුළු ව්‍යාපෘති'!#REF!+'මුළු ව්‍යාපෘති'!#REF!+'මුළු ව්‍යාපෘති'!#REF!+'මුළු ව්‍යාපෘති'!#REF!+'මුළු ව්‍යාපෘති'!#REF! -> #REF! | F6: - | G6: ='මුළු ව්‍යාපෘති'!#REF! -> #REF! | H6: ='මුළු ව්‍යාපෘති'!#REF! -> #REF! | I6: ='මුළු ව්‍යාපෘති'!#REF! -> #REF! | J6: ='මුළු ව්‍යාපෘති'!#REF! -> #REF! | K6: ='මුළු ව්‍යාපෘති'!#REF! -> #REF! | L6: ='මුළු ව්‍යාපෘති'!#REF! -> #REF! | M6: ='මුළු ව්‍යාපෘති'!#REF! -> #REF!
A7: 3 | B7: අපදා කළමනාකරණ | C7: 1 | D7: 1465500 | E7: 1 | F7: - | G7: ='මුළු ව්‍යාපෘති'!M9 -> 500000 | H7: ='මුළු ව්‍යාපෘති'!G9 -> 0 | I7: ='මුළු ව්‍යාපෘති'!I9 -> 1 | J7: ='මුළු ව්‍යාපෘති'!#REF! -> #REF! | K7: ='මුළු ව්‍යාපෘති'!J9 -> 0 | L7: ='මුළු ව්‍යාපෘති'!K9 -> 0 | M7: ='මුළු ව්‍යාපෘති'!L9 -> 0
A8: 4 | B8: අපනයන කෘෂිකර්ම දෙපාර්තමේන්තුව | C8: 5 | D8: 3350000 | E8: 5 | F8: - | G8: ='මුළු ව්‍යාපෘති'!M11 -> 49500 | H8: ='මුළු ව්‍යාපෘති'!G11 -> 0 | I8: ='මුළු ව්‍යාපෘති'!H11 -> 0 | J8: ='මුළු ව්‍යාපෘති'!I11 -> 0 | K8: ='මුළු ව්‍යාපෘති'!J11 -> 0 | L8: ='මුළු ව්‍යාපෘති'!K11 -> 0 | M8: ='මුළු ව්‍යාපෘති'!L11 -> 1
A9: 5 | B9: සමාජ සේවා දෙපාර්තමේන්තුව | C9: ='මුළු ව්‍යාපෘති'!G16+'මුළු ව්‍යාපෘති'!H16+'මුළු ව්‍යාපෘති'!I16+'මුළු ව්‍යාපෘති'!J16+'මුළු ව්‍යාපෘති'!K16+'මුළු ව්‍යාපෘති'!L16 -> 0 | D9: ='මුළු ව්‍යාපෘති'!E16 -> 0 | E9: =C9 -> 0 | F9: - | G9: ='මුළු ව්‍යාපෘති'!M16 -> 0 | H9: ='මුළු ව්‍යාපෘති'!G16 -> 0 | I9: ='මුළු ව්‍යාපෘති'!H16 -> 0 | J9: ='මුළු ව්‍යාපෘති'!I16 -> 0 | K9: ='මුළු ව්‍යාපෘති'!J16 -> 0 | L9: ='මුළු ව්‍යාපෘති'!K16 -> 0 | M9: ='මුළු ව්‍යාපෘති'!L16 -> 0
A10: 8 | B10: අධිකරණ අමාත්‍යාංශය | C10: 1 | D10: 121406.5 | E10: 1 | F10: - | G10: 109902.95 | H10: ='මුළු ව්‍යාපෘති'!G18 -> 0 | I10: ='මුළු ව්‍යාපෘති'!H18 -> 0 | J10: ='මුළු ව්‍යාපෘති'!I18 -> 0 | K10: ='මුළු ව්‍යාපෘති'!J18 -> 0 | L10: ='මුළු ව්‍යාපෘති'!K18 -> 0 | M10: ='මුළු ව්‍යාපෘති'!L18 -> 0
A11: 10 | B11: විශ්‍රාම වැටුප් දෙපාර්තමේන්තුව | C11: ='මුළු ව්‍යාපෘති'!#REF!+'මුළු ව්‍යාපෘති'!#REF!+'මුළු ව්‍යාපෘති'!#REF!+'මුළු ව්‍යාපෘති'!#REF!+'මුළු ව්‍යාපෘති'!#REF!+'මුළු ව්‍යාපෘති'!#REF! -> #REF! | D11: ='මුළු ව්‍යාපෘති'!#REF! -> #REF! | E11: 1 | F11: - | H11: ='මුළු ව්‍යාපෘති'!#REF! -> #REF! | I11: ='මුළු ව්‍යාපෘති'!#REF! -> #REF! | J11: ='මුළු ව්‍යාපෘති'!#REF! -> #REF! | K11: ='මුළු ව්‍යාපෘති'!#REF! -> #REF! | L11: ='මුළු ව්‍යාපෘති'!#REF! -> #REF! | M11: ='මුළු ව්‍යාපෘති'!#REF! -> #REF!
A12: 11 | B12: හින්දු ආගමික හා සංස්කෘතික කටයුතු දෙපාර්තමේන්තුව | C12: 1 | D12: ='මුළු ව්‍යාපෘති'!#REF! -> #REF! | E12: 1 | F12: - | H12: ='මුළු ව්‍යාපෘති'!#REF! -> #REF! | I12: ='මුළු ව්‍යාපෘති'!#REF! -> #REF! | J12: ='මුළු ව්‍යාපෘති'!#REF! -> #REF! | K12: ='මුළු ව්‍යාපෘති'!#REF! -> #REF! | L12: ='මුළු ව්‍යාපෘති'!#REF! -> #REF! | M12: ='මුළු ව්‍යාපෘති'!#REF! -> #REF!
A13: 12 | B13: රාජ්‍ය පරිපාලන අමාත්‍යාංශය | C13: ='මුළු ව්‍යාපෘති'!#REF!+'මුළු ව්‍යාපෘති'!#REF!+'මුළු ව්‍යාපෘති'!#REF!+'මුළු ව්‍යාපෘති'!#REF!+'මුළු ව්‍යාපෘති'!#REF!+'මුළු ව්‍යාපෘති'!#REF! -> #REF! | D13: ='මුළු ව්‍යාපෘති'!#REF! -> #REF! | E13: 1 | F13: - | H13: =Sheet1!F35 -> 0 | I13: =Sheet1!G35 -> 0 | J13: =Sheet1!H35 -> 0 | K13: =Sheet1!I35 -> 0 | L13: =Sheet1!J35 -> 1 | M13: =Sheet1!K35 -> 0
A14: එකතුව | C14: =SUM(C5:C13) -> #REF! | D14: =SUM(D5:D13) -> #REF! | E14: =SUM(E5:E13) -> #REF! | F14: =SUM(F5:F10) -> 0 | G14: =SUM(G5:G10) -> #REF! | H14: =SUM(H5:H13) -> #REF! | I14: =SUM(I5:I13) -> #REF! | J14: =SUM(J5:J13) -> #REF! | K14: =SUM(K5:K13) -> #REF! | L14: =SUM(L5:L13) -> #REF! | M14: =SUM(M5:M13) -> #REF!
B16: 01%-10% ඇස්තමේන්තු ගත | F16: 51%- 75% ක්‍රියාත්මක
B17: 11% - 25% ගිවිසුම්ගත | F17: 76% - 99% අවසන් වීමට ආසන්න
B18: 26%- 50% ගිව්සුම්ගතව ආරම්භ කර ඇති

Sheet Sheet1
A1: 2016 රේඛීය අමාත්‍යාංශ වල 2016.12.31දිනට ප්‍රගතිය
A2: ප්‍රාදේශීය ලේකම් කොට්ඨාශය - ගගවටකෝරළය
A3: අමාත්‍යාංශ අනු අංක | B3: අමාත්‍යාංශය | C3: ව්‍යාපෘති අනු අංක | D3: ව්‍යාපෘතිය | E3: වෙන් වූ මුදල රු. | L3: මුල්‍ය ප්‍රගතිය | M3: වෙනත්
F4: 01%-10% | G4: 11%-25% | H4: 26%-50% | I4: 51%-75% | J4: 76%-100% | K4: වැඩ අවසන්
A5: 1 | B5: සමාජ සුභ සාධන, පරිවාස හා ළමා රක්ෂණ සේවා කටයුතු දෙපාර්තමේන්තුව | C5: 1 | D5: නවෝදය විශේෂ පාසලේ වේදිකාව ඉදිකිරිම | E5: 300000 | K5: √ | L5: 294000 | M5: රැදවුම් ගෙවිමට ඇත
C6: 2 | D6: මාවිල්මඩ සරණ සෙවන වැඩිහිටි නිවාසයේ අළුත්වැඩියාව | E6: 117041.07 | K6: √ | M6: බිලගෙවිමටඇත
C7: 3 | D7: අම්පිටිය නිරංජලා සමරකෝන් මියට නිවසක් ඉදිකර දීම | E7: 100000 | H7: √
A8: එකතුව | E8: =SUM(E5:E7) -> 517041.07 | H8: 1 | K8: 2 | L8: =SUM(L5:L7) -> 294000
A9: 2 | B9: බුද්ධශාසන අමාත්‍යාංශය | C9: 4 | D9: ඔගස්ටාවත්ත ශ්‍රී සුගත බිම්බාරාම විහාරස්ථානය සංවර්ධනය කිරිම | E9: 200000 | K9: √ | L9: 194000 | M9: රැදවුම් ගෙවා ඇත
C10: 5 | D10: දංගොල්ල තිස්සාරාම විහාරස්ථානය සංවර්ධනය කිරිම | E10: 200000 | K10: √ | L10: 194000 | M10: රැදවුම් ගෙවා ඇත
C11: 6 | D11: දොඩම්වල ශ්‍රී ගංගාරාම විහාරස්ථ ශ්‍රී සද්ධර්මෝදය දහම් පාසලේ සංවර්ධන කටයුතු | E11: 150000 | K11: √ | L11: 145500 | M11: රැදවුම් ගෙවා ඇත
C12: 7 | D12: ශ්‍රී සුධර්මාරාම පුරාණ විහාරයේ දහම් පාසල් සංවර්ධන කටයුතු | E12: 200000 | K12: √ | L12: 193697.52 | M12: රැදවුම් ගෙවිමට ඇත
C13: 8 | D13: වාගොල්වාගොඩ විහාරයේ සංඝාවාස ගොඩනැගිල්ලේ වැඩ නිමකිරිම | E13: 500000 | J13: √ | L13: 97999.74 | M13: අත්තිකාරම් මුදලකි
A14: එකතුව | E14: =SUM(E9:E13) -> 1250000 | J14: 1 | K14: 4 | L14: =SUM(L9:L13) -> 825197.26
A15: 3 | B15: අපදා කළමනාකරණ | C15: 9 | D15: කීර්ති ශ්‍රී රාජසිංහ මාවතේ නායයාම් අවම කිරිමේ ව්‍යාපෘතිය | E15: 1465500 | K15: √ | L15: 1172400 | M15: බිලගෙවිමටඇත
A16: එකතුව | E16: =SUM(E15) -> 1465500 | K16: 1 | L16: =SUM(L15) -> 1172400
A17: 4 | B17: අපනයන කෘෂිකර්ම දෙපාර්තමේන්තුව | C17: 10 | D17: අපනයන කෘෂිකර්ම දෙපාර්තමේන්තුවේ ප්‍රධාන කාර්යාලයේ ගිණුම් අංශයේ කාමර වෙන් කිරිම | E17: 1250000 | K17: √ | L17: 1168739.5 | M17: රැදවුම් ගෙවිමට ඇත
C18: 11 | D18: අපනයන කෘෂිකර්ම දෙපාර්තමේන්තුවේ ඉදිරි පස මිදුලේ සිමෙන්ති ගල් ඇතිරීම | E18: 1000000 | K18: √ | L18: 727523.73 | M18: රැදවුම් ගෙවිමට ඇත
C19: 12 | D19: අපනයන කෘෂිකර්ම දෙපාර්තමේන්තුවේ මහනුවර දිස්ත්‍රිකයේ කාර්යාලයේ රැස්වීම් ශාලාවේ වහලය සඳහා සිවිලිම ගැනීම | E19: 500000 | K19: √ | L19: 460086 | M19: රැදවුම් ගෙවිමට ඇත
C20: 13 | D20: අපනයන කෘෂිකර්ම දෙපාර්තමේන්තුවේ ප්‍රධාන කාර්යාලයේ සංණිවේදන අංශයේ කාමර වෙන් කිරිම | E20: 100000 | K20: √ | M20: බිලගෙවිමටඇත
C21: 14 | D21: අපනයන කෘෂිකර්ම දෙපාර්තමේන්තුවේ ප්‍රධාන කාර්යාලයේ සංවර්ධන අංශයේ කාමර වෙන් කිරිම | E21: 500000 | J21: √
A22: එකතුව | E22: =SUM(E17:E21) -> 3350000 | J22: 1 | K22: 4 | L22: =SUM(L17:L21) -> 2356349.2
A23: 5 | B23: සමාජ සේවා දෙපාර්තමේන්තුව | C23: 15 | D23: කැටවල වෘත්තීය පුහුණු ආයතනයේ නේවාසිකාගාරයේ වැසිකිලි පද්ධතිය අළුත් වැඩියා කිරිම | E23: 1491341.7 | K23: √ | L23: 429924.23 | M23: බිලගෙවිමටඇත
C24: 16 | D24: කැටවල වෘත්තීය පුහුණු ආයතනයේ පින්තාරු අංශය සඳහා Hut එකක් සකස් කිරිම | E24: 77547 | K24: √ | M24: බිලගෙවිමටඇත
C25: 17 | D25: කැටවල වෘත්තීය පුහුණු ආයතනයේ ක්‍රීඩා පිටිය සංවර්ධනය කිරිම | E25: 99668.7 | K25: √
C26: 18 | D26: කැටවල වෘත්තීය පුහුණු ආයතනයේ වඩුකාර්මික අංශයේ විදුලි පද්ධතිය අළුත් වැඩියා කිරිම | E26: 196880 | K26: √
A27: එකතුව | E27: =SUM(E23:E26) -> 1865437.4 | K27: 4 | L27: =SUM(L23:L26) -> 429924.23
A28: 6 | B28: අධිකරණ අමාත්‍යාංශය | C28: 19 | D28: මහනුවර කම්කරු විනිශ්චය සභා ගොඩනැගිල්ලේ හුණු පිරියම් කිරිම | E28: 121406.5 | K28: √ | L28: 109902.95 | M28: රැදවුම් ගෙවිමට ඇත
A29: 20 | E29: =SUM(E28) -> 121406.5 | K29: 1 | L29: =SUM(L28) -> 109902.95
A30: 7 | B30: විශ්‍රාම වැටුප් දෙපාර්තමේන්තුව | C30: 20 | D30: විශ්‍රාම වැටුප් අංශය සංවර්ධනය | E30: 150000 | K30: √ | M30: බිලගෙවිමටඇත
A31: එකතුව | E31: =SUM(E30) -> 150000 | K31: 1 | L31: =SUM(L30) -> 0
A32: 8 | B32: හින්දු ආගමික හා සංස්කෘතික කටයුතු දෙපාර්තමේන්තුව | C32: 21 | D32: ශ්‍රි මුත්තුමාරි අම්මන් කෝවිල ප්‍රතිසංස්කරනය කිරිම | E32: 100000 | F32: √
A33: එකතුව | E33: =SUM(E32) -> 100000 | F33: 1 | L33: =SUM(L32) -> 0
A34: 9 | B34: රාජ්‍ය පරිපාලන අමාත්‍යාංශය | C34: 22 | D34: කාර්යාලයේ තීන්ත ආලේප කිරිම | E34: 500000 | J34: √
A35: එකතුව | E35: =SUM(E34) -> 500000 | J35: 1 | L35: =SUM(L34) -> 0
A36: මුළු එකතුව | E36: =E8+E14+E16+E22+E27+E29+E31+E33+E35 -> 9319385 | F36: =F8+F14+F16+F22+F27+F29+F31+F33+F35 -> 1 | G36: =G8+G14+G16+G22+G27+G29+G31+G33+G35 -> 0 | H36: =H8+H14+H16+H22+H27+H29+H31+H33+H35 -> 1 | I36: =I8+I14+I16+I22+I27+I29+I31+I33+I35 -> 0 | J36: =J8+J14+J16+J22+J27+J29+J31+J33+J35 -> 3 | K36: =K8+K14+K16+K22+K27+K29+K31+K33+K35 -> 17 | L36: =L8+L14+L16+L22+L27+L29+L31+L33+L35 -> 5187773.6

Sheet දිස්ත්‍රික් ලේකම් කාර්යාලයට යවන
A1: අමාත්‍යංශය/දෙපාර්තමේන්තුව - අපනයන කෘෂිකර්ම දෙපාර්තමේන්තුව-(289)
A2: මාසික ප්‍රගතිය- මාසය-ඔක්තෝබර් වර්ෂය-2016
A3: අනු අංකය | B3: වැඩසටහන | C3: වැය විෂය | D3: ඇස්තමේන්තු වියදම | E3: ලබුණු ප්‍රතිපාදන | F3: මිල ගණන් කැදවීම් දිනය | G3: ටෙන්ඩර් අනුමත දිනය | H3: වැඩ අවසන් කිරිමට නියමිත දිනය | I3: ආරම්භ කල දිනය | J3: අවසන් කල යුතු දිනය | K3: වියදම | L3: භෞතික ප්‍රගතිය | M3: මුල්‍ය ප්‍රගතිය | N3: කිවයුතු කරුණු
A4: 1 | B4: අපනයන කෘෂිකර්ම දෙපාර්තමේන්තුවේ ප්‍රධාන කාර්යාලයේ ගිණුම් අංශයේ කාමර වෙන් කිරිම | C4: 289-2-1-0-2001 | D4: 1148361 | E4: 1250000 | H4: 2016.08.11 | I4: 2016.05.11 | J4: 2016.08.11
A5: 2 | B5: අපනයන කෘෂිකර්ම දෙපාර්තමේන්තුවේ සංවර්ධන අංශයේ කාමර වෙන් කිරිම | C5: 289-2-2-0-2104 | D5: 413183.5 | E5: 500000 | H5: 2016.11.23 | I5: 2016.09.23 | J5: 2016.11.23
A6: 3 | B6: අපනයන කෘෂිකර්ම දෙපාර්තමේන්තුවේ මහනුවර දිස්ත්‍රිකයේ කාර්යාලයේ රැස්වීම් ශාලාවේ වහලය සඳහා සිවිලිම ගැසීම | C6: 298-2-1-0-2001 | E6: 500000 | H6: 2016.10.15 | I6: 2016.07.15 | J6: 2016.10.15 | K6: 460086
A7: 4 | B7: අපනයන කෘෂිකර්ම දෙපාර්තමේන්තුවේ ඉදිරි පස මිදුලේ සිමින්ති ගල් ඇරීම | C7: 298-2-1-0-2105 | D7: 918517 | E7: 1000000 | H7: 2016.10.15 | I7: 2016.07.15 | J7: 2016.10.15 | K7: 727523.73
B8: අපනයන කෘෂිකර්ම දෙපාර්තමේන්තුවේ ප්‍රධාන කාර්යාලයේ සන්නිවේදන අංශයේ කාමර වෙන් කිරිම | C8: 289-2-1-0-2001 | D8: 91578 | E8: 100000 | H8: 2016.11.10 | I8: 2016.08.10 | J8: 2016.11.10
B9: උප එකතුව | D9: =SUM(D4:D8) -> 2571639.5 | E9: =SUM(E4:E8) -> 3350000 | K9: =SUM(K6:K8) -> 1187609.7
A21: අමාත්‍යංශය/දෙපාර්තමේන්තුව - අධිකරණ පරිපාලන - (228)
A22: මාසික ප්‍රගතිය- මාසය-ඔක්තෝබර් වර්ෂය-2016
A23: අනු අංකය | B23: වැඩසටහන | C23: වැය විෂය | D23: ඇස්තමේන්තු වියදම | E23: ලබුණු ප්‍රතිපාදන | F23: මිල ගණන් කැදවීම් දිනය | G23: ටෙන්ඩර් අනුමත දිනය | H23: වැඩ අවසන් කිරිමට දිනය | I23: ආරම්භ කල දිනය | J23: අවසන් කල යුතු දිනය | K23: වියදම | L23: භෞතික ප්‍රගතිය | M23: මුල්‍ය ප්‍රගතිය | N23: කිවයුතු කරුණු
A24: 1 | B24: මහනුවර අධිකරණ සංකීර්ණයේ බිම් මහලේ කම්කරු විනිශ්චය සභා ගොඩනැගිල්ලේ හුණු පිරියම් කිරිම | C24: 228-1-2-0-2001 | D24: 110660 | E24: 121406.5 | H24: 2016.12.07 | I24: 2016.09.07 | J24: 2016.12.07 | K24: 109902.95
B28: උප එකතුව | D28: =SUM(D24:D27) -> 110660 | E28: =SUM(E24:E27) -> 121406.5 | K28: =SUM(K24:K27) -> 109902.95

Sheet බෙෘද්ධ කටයුතු
B1: 2016 රේඛීය අමාත්‍යාංශ වල 2016.06.30 දිනට ප්‍රගතිය
B2: ප්‍රාදේශීය ලේකම් කොට්ඨාශය - ගගවටකෝරළය
A5: අනු අංකය | B5: අමාත්‍යාංශය | C5: ව්‍යාපෘතිය | D5: වෙන් වූ මුදල රු. | E5: ඇස්තමේන්තු මුදල | F5: ප්‍රගතිය | L5: මුල්‍ය ප්‍රගතිය | M5: වෙනත්
F6: 0-25% | G6: 25%-50% | H6: 26%-50% | I6: 50%-75% | J6: 75%-100% | K6: වැඩ අවසන්
A7: 1 | B7: බුද්ධශාසන අමාත්‍යාංශය | C7: ඔගස්ටාවත්ත ශ්‍රී සුගත බිම්බාරාම විහාරස්ථානය සංවර්ධනය කිරිම | D7: 200000 | E7: 200000 | K7: √ | L7: 194000
A8: 2 | C8: දංගොල්ල තිස්සාරාම විහාරස්ථානය සංවර්ධනය කිරිම | D8: 200000 | E8: 200000 | K8: √ | L8: 194000
A9: 3 | C9: දොඩම්වල ශ්‍රී ගංගාරාම විහාරස්ථ ශ්‍රී සද්ධර්මෝදය දහම් පාසලේ සංවර්ධන කටයුතු | D9: 150000 | E9: 150000 | K9: √ | L9: 145500
A10: එකතුව | D10: =SUM(D7:D9) -> 550000 | E10: =SUM(E7:E9) -> 550000 | K10: 3 | L10: =SUM(L7:L9) -> 533500

Sheet අඳ ගොළු බිහිරි
A1: දොඩම්වල අඳගොළු බිහිරි පාසලේ සංවර්ධන ව්‍යාපෘති පිළිබද ඇස්තමේන්තු
A3: අනු අංකය | B3: ව්‍යාපෘතිය | C3: ඇස්තමේන්තු මුදල
A4: 1 | B4: රැදවුම් බැම්ම ඉදි කිරිම | C4: 365000
A5: 2 | B5: විදුහල්පති නිල නිවසට යන පාර කොන්ක්‍රීට් කිරිම | C5: 68000
A6: 3 | B6: විදුහල්පති නිල නිවසට ඉදිරිපස දැල් වැට සකස් කිරිම | C6: 320000
A7: 4 | B7: විදුහල්පති නිල නිවස වටා කටු කම්බි වැට ඉදි කිරිම | C7: 160000
A8: 5 | B8: නේවාසිකාගාරයේ මායිම් තාප්පය ඉදි කිරිම | C8: 200000

Sheet ප්‍රගතිය
B1: 2015 රේඛීය අමාත්‍යාංශ වල 2015 .09.17 දිනට ප්‍රගතිය
B2: ප්‍රාදේශීය ලේකම් කොට්ඨාශය - ගගවටකෝරළය
F3: භෞතික ප්‍රගතිය % | M3: මූල්‍ය පුගතිය
A4: අනු අංකය | B4: අමාත්‍යාංශය | C4: ව්‍යාපෘතිය | D4: ක්‍රියාත්මක වසම් ගණන | E4: ව්‍යාපෘති සංඛ්‍යාව | F4: 0 | G4: 01%-10% | H4: 11%-25% | I4: 26%-50% | J4: 51%-75% | K4: 76%-99% | L4: වැඩ අවසන් | M4: වෙන් වූ මුදල රු. | N4: වියදම රු | O4: ප්‍රගතිය%
A5: 1 | B5: බුද්ධ ශාසන අමාත්‍යාංශය | C5: සුදුහුම්පොල විහාරස්ථානයේ ප්‍රතිසංස්කරණය | J5: 1 | M5: 250000
A6: 2 | C6: දොඩම්වල ශ්‍රී ගංගාරාම විහාරස්ථානයේ ධර්මශාලා ගොඩනැගිල්ල ඉදිකිරිම | L6: 1 | M6: 250000 | N6: 244435.6
A7: 3 | C7: සුදුහුම්පොල රජමහා විහාරයේ දහම් පාසල් ගොඩනැගිල්ල ඉදි කිරීම | L7: 1 | M7: 100000 | N7: 97000
A8: 4 | C8: මහනුවර අස්ගිරිය යටවත්ත විහාරස්ථානයේ සංඝාවාස ගොඩනැගිල්ල ඉදි කිරිම | L8: 1 | M8: 1500000 | N8: 1469057.1
A9: 5 | C9: ශ්‍රී සංඝරාජ දහම් පාසලේ නව දෙමහල් ගොඩනැගිල්ල ටයිල් කිරිම | J9: 1 | M9: 1500000 | N9: 200000
A10: 6 | B10: සමාජ සුභ සාධන, පරිවාස හා ළමා රක්ෂණ සේවා කටයුතු දෙපාර්තමේන්තුව | C10: සරණ සෙවන වැඩිහිටි නිවාසයේ අළුත්වැඩියාව | I10: 1 | M10: 117041.07
A11: 7 | B11: හින්දු ආගමීක හා සංස්කෘතික කටයුතු දෙපාර්තමේන්තුව | C11: හන්තාන ශ්‍රී මාරි අම්මාන් දේවස්ථානයේ ප්‍රතිසංස්කරණය | L11: 1 | M11: 100000 | N11: 77429.83
A12: 8 | B12: සංස්කෘතික කටයුතු දෙපාර්තමේන්තුව | C12: කටුකැලේ වයි.එම්.එම්.ඒ. අභදියා දහම් පාසල සඳහා භාණ්ඩ ලබා ගැනීම | L12: 1 | M12: 15000 | N12: =610+13940 -> 14550
A13: 9 | B13: පුද්ගලයින් ලියාපදිංචි කිරීමේ දෙපාර්තමේන්තුව | C13: පුද්ගලයින් ලියාපදිංචි කිරීමේ ශාඛා කාර්යාලය පිහිටුවීම | L13: 1 | M13: 477974.04
A14: 10 | B14: රාජ්‍ය පරිපාලන, පළාත් හා ප්‍රජාතාන්ත්‍රීය පාලනය පිළිබද අමාත්‍යාංශය | C14: තෝරදෙණිය පන්සල අළුත්වැඩියා කිරීම | I14: 1 | M14: 1200000
A15: 11 | B15: බෞද්ධ කටයුතු පිලිබද දෙපාර්තමේන්තුව | C15: බෝගම්බර බෝධිමළු විහාරයේ ශ්‍රී ධර්මපාල දහම් පාසලේ ගොඩනැගිල්ල සංවර්ධනය | I15: 1 | M15: 100000
A16: 12 | C16: වජිරාම පුරාණ විහාරයේ සංවර්ධනය සඳහා | L16: 1 | M16: 50000 | N16: 47880
A17: 13 | B17: දිස්ත්‍රික් ලේකම් කාර්යාලය | C17: ප්‍රාදේශීය ලේකම් නිළ නිවාසය අළුත්වැඩියා කිරීම | L17: 1 | M17: 400000 | N17: 399970.16
A18: 14 | B18: අපනයන කෘෂිකර්ම දෙපාර්තමේන්තුව | C18: අපනයන කෘෂිකර්ම දෙපාර්තමේන්තුවේ ප්‍රධාන කාර්යාලය අළුත්වැඩියාව හා වැඩි දියුණු කිරීම | K18: 1 | M18: 250000
A19: 15 | C19: අපනයන කෘෂිකර්ම දෙපාර්තමේන්තුවේ ප්‍රධාන කාර්යාලය අළුත්වැඩියාව හා වැඩි දියුණු කිරීම | I19: 1 | M19: 492526.65
A20: 16 | C20: අපනයන කෘෂිකර්ම දෙපාර්තමේන්තුවේ දිස්ත්‍රික් කාර්යාලයේ මුර කුටිය ඉදිකිරීම | I20: 1 | M20: 275000
A21: 17 | B21: සමාජ සුභ සාධන, පරිවාස හා ළමා රක්ෂණ සේවා කටයුතු දෙපාර්තමේන්තුව මධ්‍යම පළාත | C21: නවෝද්‍ය විශේෂ අධ්‍යාපන නේවාසික පිරිමි | F21: 1 | M21: 300000
A22: 18 | B22: විශාම වැටුප් දෙපාර්තමේන්තුව | C22: ගඟවට ප්‍රාදේශීය ලේකම් කාර්යාලයේ විශාම වැටුප් අංශයේ ලේඛනාගාරය වැඩි දියුණු කිරීම | K22: 1 | M22: 500000
A23: 19 | B23: අධිකරණ අමාත්‍යාංශය | C23: මධ්‍යම පළාත් ආණ්ඩුකාර නිල නිවාසයෙහි නාන කාමර අළුත්වැඩියාව II වන අදියරය | H23: 1 | M23: 225000
A24: 20 | C24: මධ්‍යම පළාත් ආණ්ඩුකාර නිල නිවාසයෙහි නාන කාමර අළුත්වැඩියාව I වන අදියරය | H24: 1 | M24: 200000
A25: 21 | C25: අආණ්ඩුකාර ලේකම් කාර්යාලයේ ඇලුමිනියම් කාමර වෙන් කිරීම | G25: 1 | M25: 110000
A26: 22 | B26: ග්‍රාම සංවර්ධන දෙපාර්තමේන්තුව මධ්‍යම පලාත | C26: මහනුවර බෝවල වට රවුම් පාර සංවර්ධනය කිරීම | G26: 1 | M26: 75000
A27: 23 | B27: විශාම වැටුප් දෙපාර්තමේන්තුව | C27: ගඟවට ප්‍රාදේශීය ලේකම් කාර්යාලයේ විශ්‍රාම වැටුප් අංශයේ ලේඛනාගාරය වැඩි දියුණු කිරීම | F27: 1 | M27: 500000
B28: මුළු එකතුව | D28: =SUM(D5:D27) -> 0 | E28: =SUM(E5:E27) -> 0 | F28: =SUM(F5:F27) -> 2 | G28: =SUM(G5:G27) -> 2 | H28: =SUM(H5:H27) -> 2 | I28: =SUM(I5:I27) -> 5 | J28: =SUM(J5:J27) -> 2 | K28: =SUM(K5:K27) -> 2 | ... O28: =SUM(O5:O27) -> 0
B30: 0% - මූලික මට්ටම | E30: 26%- 50% ගිව්සුම්ගතව ආරම්භ කර ඇති
B31: 01%-10% ඇස්තමේන්තු ගත | E31: 51%- 75% ක්‍රියාත්මක
B32: 11% - 25% ගිවිසුම්ගත | E32: 76% - 99% අවසන් වීමට ආසන්න
B33: සකස් කළේ- | E33: නිර්දේශ කළේ - | K33: අනුමත කළේ -
E34: සහකාර අධ්‍යක්ෂ - | K34: ප්‍රාදේශිය ලේකම් -
E35: ක්‍රම සම්පාදන -
A69: 2015 රේඛීය අමාත්‍යාංශ වල 2015 .10.14 දිනට ප්‍රගතිය
A70: ප්‍රාදේශීය ලේකම් කොට්ඨාශය - ගගවටකෝරළය
A71: අනු අංකය | B71: අමාත්‍යාංශය | C71: ව්‍යාපෘතිය | D71: ක්‍රියාත්මක වසම් ගණන | E71: ව්‍යාපෘති සංඛ්‍යාව | F71: භෞතික ප්‍රගතිය % | M71: මූල්‍ය පුගතිය
F72: 0 | G72: 01%-10% | H72: 11%-25% | I72: 26%-50% | J72: 51%-75% | K72: 76%-99% | L72: වැඩ අවසන් | M72: වෙන් වූ මුදල රු. | N72: වියදම රු | O72: ප්‍රගතිය%
A73: 1 | B73: බුද්ධ ශාසන අමාත්‍යාංශය | C73: සුදුහුම්පොල විහාරස්ථානයේ ප්‍රතිසංස්කරණය | J73: 1 | M73: 250000
A74: 2 | C74: දොඩම්වල ශ්‍රී ගංගාරාම විහාරස්ථානයේ ධර්මශාලා ගොඩනැගිල්ල ඉදිකිරිම | L74: 1 | M74: 250000 | N74: 244435.6
A75: 3 | C75: සුදුහුම්පොල රජමහා විහාරයේ දහම් පාසල් ගොඩනැගිල්ල ඉදි කිරීම | L75: 1 | M75: 100000 | N75: 97000
A76: 4 | C76: මහනුවර අස්ගිරිය යටවත්ත විහාරස්ථානයේ සංඝාවාස ගොඩනැගිල්ල ඉදි කිරිම | L76: 1 | M76: 1500000 | N76: 1469057.1
A77: 5 | C77: ශ්‍රී සංඝරාජ දහම් පාසලේ නව දෙමහල් ගොඩනැගිල්ල ටයිල් කිරිම | J77: 1 | M77: 1500000 | N77: 200000
A78: 6 | B78: සමාජ සුභ සාධන, පරිවාස හා ළමා රක්ෂණ සේවා කටයුතු දෙපාර්තමේන්තුව - මධ්‍යම පලාත | C78: සරණ සෙවන වැඩිහිටි නිවාසයේ අළුත්වැඩියාව | I78: 1 | M78: 117041.07
A79: 7 | C79: නවෝද්‍ය විශේෂ අධ්‍යාපන නේවාසික පිරිමි | F79: 1 | M79: 300000
A80: 8 | B80: හින්දු ආගමීක හා සංස්කෘතික කටයුතු දෙපාර්තමේන්තුව | C80: හන්තාන ශ්‍රී මාරි අම්මාන් දේවස්ථානයේ ප්‍රතිසංස්කරණය | L80: 1 | M80: 100000 | N80: 77429.83
A81: 9 | B81: සංස්කෘතික කටයුතු දෙපාර්තමේන්තුව | C81: කටුකැලේ වයි.එම්.එම්.ඒ. අභදියා දහම් පාසල සඳහා භාණ්ඩ ලබා ගැනීම | L81: 1 | M81: 15000 | N81: =610+13940 -> 14550
A82: 10 | B82: පුද්ගලයින් ලියාපදිංචි කිරීමේ දෙපාර්තමේන්තුව | C82: පුද්ගලයින් ලියාපදිංචි කිරීමේ ශාඛා කාර්යාලය පිහිටුවීම | L82: 1 | M82: 477974.04
A83: 11 | B83: රාජ්‍ය පරිපාලන, පළාත් හා ප්‍රජාතාන්ත්‍රීය පාලනය පිළිබද අමාත්‍යාංශය | C83: තෝරදෙණිය පන්සල අළුත්වැඩියා කිරීම | I83: 1 | M83: 1200000
A84: 12 | B84: බෞද්ධ කටයුතු පිලිබද දෙපාර්තමේන්තුව | C84: බෝගම්බර බෝධිමළු විහාරයේ ශ්‍රී ධර්මපාල දහම් පාසලේ ගොඩනැගිල්ල සංවර්ධනය | I84: 1 | M84: 100000
A85: 13 | C85: වජිරාම පුරාණ විහාරයේ සංවර්ධනය සඳහා | L85: 1 | M85: 50000 | N85: 47880
A86: 14 | B86: දිස්ත්‍රික් ලේකම් කාර්යාලය | C86: ප්‍රාදේශීය ලේකම් නිළ නිවාසය අළුත්වැඩියා කිරීම | L86: 1 | M86: 400000 | N86: 399970.16
A87: 15 | B87: අපනයන කෘෂිකර්ම දෙපාර්තමේන්තුව | C87: අපනයන කෘෂිකර්ම දෙපාර්තමේන්තුවේ ප්‍රධාන කාර්යාලය අළුත්වැඩියාව හා වැඩි දියුණු කිරීම | K87: 1 | M87: 250000
A88: 16 | C88: අපනයන කෘෂිකර්ම දෙපාර්තමේන්තුවේ ප්‍රධාන කාර්යාලය අළුත්වැඩියාව හා වැඩි දියුණු කිරීම | I88: 1 | M88: 492526.65
A89: 17 | C89: අපනයන කෘෂිකර්ම දෙපාර්තමේන්තුවේ දිස්ත්‍රික් කාර්යාලයේ මුර කුටිය ඉදිකිරීම | I89: 1 | M89: 275000
A90: 18 | B90: විශාම වැටුප් දෙපාර්තමේන්තුව | C90: ගඟවට ප්‍රාදේශීය ලේකම් කාර්යාලයේ විශ්‍රාම වැටුප් අංශයේ ලේඛනාගාරය වැඩි දියුණු කිරීම | K90: 1 | M90: 500000
A91: 19 | B91: ග්‍රාම සංවර්ධන දෙපාර්තමේන්තුව මධ්‍යම පලාත | C91: මහනුවර බෝවල වට රවුම් පාර සංවර්ධනය කිරීම | G91: 1 | M91: 75000
A92: මුළු එකතුව | D92: 19 | E92: 19 | F92: =SUM(F73:F91) -> 1 | G92: =SUM(G73:G91) -> 1 | H92: =SUM(H73:H91) -> 0 | I92: =SUM(I73:I91) -> 5 | J92: =SUM(J73:J91) -> 2 | K92: =SUM(K73:K91) -> 2 | L92: =SUM(L73:L91) -> 8 | M92: =SUM(M73:M91) -> 7952541.8 | ... O92: =SUM(O73:O91) -> 0
B94: 0% - මූලික මට්ටම | E94: 26%- 50% ගිව්සුම්ගතව ආරම්භ කර ඇති
B95: 01%-10% ඇස්තමේන්තු ගත | E95: 51%- 75% ක්‍රියාත්මක
B96: 11% - 25% ගිවිසුම්ගත | E96: 76% - 99% අවසන් වීමට ආසන්න
B97: සකස් කළේ- | E97: නිර්දේශ කළේ - | K97: අනුමත කළේ -
E98: සහකාර අධ්‍යක්ෂ - | K98: ප්‍රාදේශිය ලේකම් -
E99: ක්‍රම සම්පාදන -
A123: 2015 රේඛීය අමාත්‍යාංශ වල 2015 .11.09 දිනට ප්‍රගතිය
A124: ප්‍රාදේශීය ලේකම් කොට්ඨාශය - ගගවටකෝරළය
A125: අනු අංකය | B125: අමාත්‍යාංශය | C125: ව්‍යාපෘතිය | D125: ක්‍රියාත්මක වසම් ගණන | E125: ව්‍යාපෘති සංඛ්‍යාව | F125: භෞතික ප්‍රගතිය % | M125: මූල්‍ය පුගතිය
F126: 0 | G126: 01%-10% | H126: 11%-25% | I126: 26%-50% | J126: 51%-75% | K126: 76%-99% | L126: වැඩ අවසන් | M126: වෙන් වූ මුදල රු. | N126: වියදම රු | O126: ප්‍රගතිය%
A127: 1 | B127: බුද්ධ ශාසන අමාත්‍යාංශය | C127: සුදුහුම්පොල විහාරස්ථානයේ ප්‍රතිසංස්කරණය | L127: 1 | M127: 250000 | N127: 244911.53
A128: 2 | C128: දොඩම්වල ශ්‍රී ගංගාරාම විහාරස්ථානයේ ධර්මශාලා ගොඩනැගිල්ල ඉදිකිරිම | L128: 1 | M128: 250000 | N128: 244435.6
A129: 3 | C129: සුදුහුම්පොල රජමහා විහාරයේ දහම් පාසල් ගොඩනැගිල්ල ඉදි කිරීම | L129: 1 | M129: 100000 | N129: 97000
A130: 4 | C130: මහනුවර අස්ගිරිය යටවත්ත විහාරස්ථානයේ සංඝාවාස ගොඩනැගිල්ල ඉදි කිරිම | L130: 1 | M130: 1500000 | N130: 1469057.1
A131: 5 | C131: ශ්‍රී සංඝරාජ දහම් පාසලේ නව දෙමහල් ගොඩනැගිල්ල ටයිල් කිරිම | K131: 1 | M131: 1500000 | N131: 200000
A132: 6 | B132: හින්දු ආගමීක හා සංස්කෘතික කටයුතු දෙපාර්තමේන්තුව | C132: හන්තාන ශ්‍රී මාරි අම්මාන් දේවස්ථානයේ ප්‍රතිසංස්කරණය | L132: 1 | M132: 100000 | N132: 77429.83
A133: 7 | B133: සංස්කෘතික කටයුතු දෙපාර්තමේන්තුව | C133: කටුකැලේ වයි.එම්.එම්.ඒ. අභදියා දහම් පාසල සඳහා භාණ්ඩ ලබා ගැනීම | L133: 1 | M133: 15000 | N133: =610+13940 -> 14550
A134: 8 | B134: පුද්ගලයින් ලියාපදිංචි කිරීමේ දෙපාර්තමේන්තුව | C134: පුද්ගලයින් ලියාපදිංචි කිරීමේ ශාඛා කාර්යාලය පිහිටුවීම | L134: 1 | M134: 477974.04 | N134: 374868.58
A135: 9 | B135: රාජ්‍ය පරිපාලන, පළාත් හා ප්‍රජාතාන්ත්‍රීය පාලනය පිළිබද අමාත්‍යාංශය | C135: තෝරදෙණිය පන්සල අළුත්වැඩියා කිරීම | J135: 1 | M135: 1200000
A136: 10 | B136: බෞද්ධ කටයුතු පිලිබද දෙපාර්තමේන්තුව | C136: බෝගම්බර බෝධිමළු විහාරයේ ශ්‍රී ධර්මපාල දහම් පාසලේ ගොඩනැගිල්ල සංවර්ධනය | J136: 1 | M136: 100000
A137: 11 | C137: වජිරාම පුරාණ විහාරයේ සංවර්ධනය සඳහා | L137: 1 | M137: 50000 | N137: 47880
A138: 12 | B138: දිස්ත්‍රික් ලේකම් කාර්යාලය | C138: ප්‍රාදේශීය ලේකම් නිළ නිවාසය අළුත්වැඩියා කිරීම | L138: 1 | M138: 400000 | N138: 399970.16
A139: 13 | B139: අපනයන කෘෂිකර්ම දෙපාර්තමේන්තුව | C139: අපනයන කෘෂිකර්ම දෙපාර්තමේන්තුවේ ප්‍රධාන කාර්යාලය අළුත්වැඩියාව හා වැඩි දියුණු කිරීම | L139: 1 | M139: 250000
A140: 14 | C140: අපනයන කෘෂිකර්ම දෙපාර්තමේන්තුවේ ප්‍රධාන කාර්යාලය අළුත්වැඩියාව හා වැඩි දියුණු කිරීම | I140: 1 | M140: 492526.65
A141: 15 | C141: අපනයන කෘෂිකර්ම දෙපාර්තමේන්තුවේ දිස්ත්‍රික් කාර්යාලයේ මුර කුටිය ඉදිකිරීම | I141: 1 | M141: 275000
A142: 16 | B142: විශාම වැටුප් දෙපාර්තමේන්තුව | C142: ගඟවට ප්‍රාදේශීය ලේකම් කාර්යාලයේ විශ්‍රාම වැටුප් අංශයේ ලේඛනාගාරය වැඩි දියුණු කිරීම | K142: 1 | M142: 800000
A143: 17 | B143: රාජ්‍ය පරිපාලන හා ස්වදේශ කටයුතු අමාත්‍යාංශය අමාත්‍යාංශය | C143: ප්‍රාදේශීය ලේකම් කාර්යාලයේ ආයතන අංශය වැඩි දියුණු කිරීම | L143: 1 | M143: 65000
A144: මුළු එකතුව | D144: =SUM(D127:D142) -> 0 | E144: 17 | F144: =SUM(F127:F143) -> 0 | G144: =SUM(G127:G143) -> 0 | H144: =SUM(H127:H143) -> 0 | I144: =SUM(I127:I143) -> 2 | J144: =SUM(J127:J143) -> 2 | K144: =SUM(K127:K143) -> 2 | L144: =SUM(L127:L143) -> 11 | M144: =SUM(M127:M143) -> 7825500.7 | ... O144: =SUM(O127:O143) -> 0
B146: 0% - මූලික මට්ටම | E146: 26%- 50% ගිව්සුම්ගතව ආරම්භ කර ඇති
B147: 01%-10% ඇස්තමේන්තු ගත | E147: 51%- 75% ක්‍රියාත්මක
B148: 11% - 25% ගිවිසුම්ගත | E148: 76% - 99% අවසන් වීමට ආසන්න
B149: සකස් කළේ- | E149: නිර්දේශ කළේ - | K149: අනුමත කළේ -
E150: සහකාර අධ්‍යක්ෂ - | K150: ප්‍රාදේශිය ලේකම් -
E151: ක්‍රම සම්පාදන -

Sheet ක්‍රීඩා පිටි
A1: 2015 රේඛීය අමාත්‍යාංශ වල 2015 .10.01 දිනට ප්‍රගතිය
A2: ප්‍රාදේශීය ලේකම් කොට්ඨාශය - ගගවටකෝරළය
F3: භෞතික ප්‍රගතිය % | M3: මූල්‍ය පුගතිය
A4: අනු අංකය | B4: අමාත්‍යාංශය | C4: ව්‍යාපෘතිය | D4: ක්‍රියාත්මක වසම් | E4: ව්‍යාපෘති සංඛ්‍යාව | F4: 0 | G4: 01%-10% | H4: 11%-25% | I4: 26%-50% | J4: 51%-75% | K4: 76%-99% | L4: වැඩ අවසන් | M4: වෙන් වූ මුදල රු. | N4: වියදම රු | O4: ප්‍රගතිය%
A5: 1 | B5: සංචාරක හා ක්‍රීඩා අමාත්‍යාශය | C5: හීරැස්සගල ක්‍රීඩාංගණය සංවර්ධනය කිරිම | D5: හීරැස්සගල | I5: 1 | M5: 500000
A6: 2 | C6: බෝවලවත්ත ක්‍රීඩාංගණය සංවර්ධනය කිරිම | D6: බෝවලවත්ත | J6: 1 | M6: 500000
B11: 0% - මූලික මට්ටම | E11: 26%- 50% ගිව්සුම්ගතව ආරම්භ කර ඇති
B12: 01%-10% ඇස්තමේන්තු ගත | E12: 51%- 75% ක්‍රියාත්මක
B13: 11% - 25% ගිවිසුම්ගත | E13: 76% - 99% අවසන් වීමට ආසන්න
B14: සකස් කළේ- | E14: නිර්දේශ කළේ - | K14: අනුමත කළේ -
E15: සහකාර අධ්‍යක්ෂ - | K15: ප්‍රාදේශිය ලේකම් -
E16: ක්‍රම සම්පාදන -

Sheet ලිපිගොනු
A1: 2016 රේඛීය අමාත්‍යාංශයේ ඇති ලිපිගොනු
A2: ප්‍රාදේශීය ලේකම් කොට්ඨාශය - ගගවටකෝරළය
A4: අනු අංක | B4: ව්‍යාපෘතිය | C4: භාර දුන් බවට | D4: භාර ගත් බවට
A6: 1 | B6: සදහම් සිසිල විහාරස්ථානයේ සංවර්ධන වැඩසටහන 2015
A7: 2 | B7: කැටවල අවහිර විඇති මල ඇල ප්‍රතිසංස්කරණය කිරිම
A8: 3 | B8: වතු යටිතල පහසුකම් සංවර්ධන අමාත්‍යාංශයේ ව්‍යාපෘති ක්‍රියාත්මක කිරිම
A9: 4 | B9: ප්‍රාෙද්ශීය ලෙ.කාර්යාලයේ තීන්ත ආලේප කිරිම
A10: 5 | B10: අපනයන කෘෂිකර්ම දෙපාර්තමේන්තුවේ ගොඩනැගිලි නඩත්තුව සඳහා ඇස්තමේන්තුව
A11: 6 | B11: අආපදා පොදු
A12: 7 | B12: නියේජඨ මැතිවරණ කොමසාරිස් නිළ නිවසේ අළුත්වැඩියා කටයුතු
A13: 8 | B13: ගිණුම් අංශයට අත් බේසමක් සවි කිරිම
A14: 9 | B14: වෙනත් අමාත්‍යාංශ යෝජනා
A15: 10 | B15: කතරගම දේවාලය ප්‍රතිසංස්කරණය කිරිම
A16: 11 | B16: තැපැල් කාර්යාල ගොඩනැගිල්ල අළුත්වැඩියා කිරිම
A17: 12 | B17: ආණ්ඩුකාර ලේකම් කාර්යාලයේ පොලිස් ආරක්ෂක කුටිය පිළිසතර කිරිම
... A29: 24 | B29: අමිපිටිය තුනේ කණුව පිටිටනියේ සංවර්ධන කටයුතු

Sheet තාක්ෂණ නිලධාරි ලග තිබෙන ලිපි ගො
A1: 2016 හා 2015 වර්ෂ වල රේඛීය අමාත්‍යාංශ වල බිල්පත් හා රැදවුම් මුදල් ගෙවීමට තාක්ෂණ නිලධාරි ලග තිබෙන ලිපි ගොනු (ප්‍රසාද්)
A5: අනු අංක | B5: ව්‍යාපෘතිය | C5: වෙන් වූ මුදල රු. | D5: මුල්‍ය ප්‍රගතිය | E5: වෙනත් | F5: වර්ෂය | G5: භාර දුන් බවට | H5: භාර ගත් බවට
A7: 1 | B7: මාවිල්මඩ සරණ සෙවන වැඩිහිටි නිවාසයේ අළුත්වැඩියාව | C7: 117041.07 | E7: බිල් පත ගෙවීමට | F7: 2016
A8: 2 | B8: ගිණුම් අංශය අළුත්වැඩියා කිරිම | C8: 33239 | D8: 33239 | E8: රැදවුම් ගෙවීමට | F8: 2015
A9: 3 | B9: ජමියතුල් උලමා කාර්යාලයේ සංවර්ධන කිරීම | C9: 1000000 | D9: 980000 | E9: රැදවුම් ගෙවීමට | F9: 2015
A10: 4 | B10: නවෝද්‍ය විශේෂ අධ්‍යාපන නේවාසික පිරිමි පාසල සංවර්ධනය කිරීම | C10: 300000 | D10: 291000 | E10: රැදවුම් ගෙවීමට | F10: 2015
A11: 5 | B11: සුදුහුම්පොල විහාරස්ථානයේ ප්‍රතිසංස්කරණය | C11: 250000 | D11: 244911.53 | E11: රැදවුම් ගෙවීමට | F11: 2015
A12: 6 | B12: සුදුහුම්පොල රජමහා විහාරයේ දහම් පාසල් ගොඩනැගිල්ල ඉදි කිරීම | C12: 100000 | D12: 97000 | E12: රැදවුම් ගෙවීමට | F12: 2015
A27: 2016 හා 2015 වර්ෂ වල රේඛීය අමාත්‍යාංශ වල බිල්පත් හා රැදවුම් මුදල් ගෙවීමට තාක්ෂණ නිලධාරි ලග තිබෙන ලිපි ගොනු (කරුණාරත්න)
A31: අනු අංක | B31: ව්‍යාපෘතිය | C31: වෙන් වූ මුදල රු. | D31: මුල්‍ය ප්‍රගතිය | E31: වෙනත් | F31: වර්ෂය | G31: භාර දුන් බවට | H31: භාර ගත් බවට
A33: 1 | B33: අපනයන කෘෂිකර්ම දෙපාර්තමේන්තුවේ ප්‍රධාන කාර්යාලයේ ගිණුම් අංශයේ කාමර වෙන් කිරිම | C33: 1250000 | E33: බිල් පත ගෙවීමට | F33: 2016
A34: 2 | B34: අපනයන කෘෂිකර්ම දෙපාර්තමේන්තුවේ පැළ අලෙවි මධස්ථාන ගොඩනැගිල්ලේ කාමර වෙන් කිරීම | C34: 220000 | D34: 208698.55 | E34: රැදවුම් ගෙවීමට | F34: 2015 | K34: 1
A35: 3 | B35: ප්‍රාදේශීය ලේකම් කාර්යාලයේ ආයතන අංශය වැඩි දියුණු කිරීම | C35: 45000 | D35: 45000 | E35: රැදවුම් ගෙවීමට | F35: 2015 | K35: 1
A36: 4 | B36: මධ්‍යම පළාත් ආණ්ඩුකාර නිල නිවාසයෙහි නාන කාමර අළුත්වැඩියාව I වන අදියරය | C36: 280000 | D36: 261734 | E36: රැදවුම් ගෙවීමට | F36: 2015 | K36: 1
A38: 2016 හා 2015 වර්ෂ වල රේඛීය අමාත්‍යාංශ වල බිල්පත් හා රැදවුම් මුදල් ගෙවීමට තාක්ෂණ නිලධාරි ලග තිබෙන ලිපි ගොනු (මහේෂා)
A42: අනු අංක | B42: ව්‍යාපෘතිය | C42: වෙන් වූ මුදල රු. | D42: මුල්‍ය ප්‍රගතිය | E42: වෙනත් | F42: වර්ෂය | G42: භාර දුන් බවට | H42: භාර ගත් බවට
A44: 1 | B44: බෝගම්බර බෝධිමළු විහාරයේ ශ්‍රී ධර්මපාල දහම් පාසලේ ගොඩනැගිල්ල සංවර්ධනය | C44: 100000 | D44: 95598.76 | E44: රැදවුම් ගෙවීමට | F44: 2015 | K44: 1

Sheet පිට ආයතන වලට යැවු ඇස්තමේන්තු
A1: 2016 රේඛීය අමාත්‍යාංශ වල පිට ආයතන වලට යැවු ඇස්තමේන්තු
A2: ප්‍රාදේශීය ලේකම් කොට්ඨාශය - ගගවටකෝරළය
A4: අනු අංක | B4: ව්‍යාපෘතිය | C4: ඇස්තමේන්තු කල මුදල රු. | D4: භාර දුන් බවට | E4: භාර ගත් බවට
A6: 1 | B6: මල්වතු මහා විහාරයට අයත් තුම්පනේ පන්සලේ අළුත්වැඩියාව | C6: 1750000
A7: 2 | B7: සෙංකඩගල තැපැල් කාර්යාල ගොඩනැගිල්ල ප්‍රතිසංස්කරණය කිරිම | C7: 975000
A8: 3 | B8: අම්පිටිය මැද්දේගම අසරණ සරණ වැඩිහිටි නිවාසයේ ගිලන් කාමරය ඉදි කිරිම | C8: 1000000
A9: 4 | B9: ශ්‍රී බෝධිරැක්කාරාම විහාරස්ථානය සංවර්ධනය කිරිම | C9: 1550000
A10: 5 | B10: අපනය කෘෂිකර්ම දෙ.වේ දිස්ත්‍රික් කාර්යාලයේ පිටත වැස්කිළිය ඉදි කිරිම | C10: 700000
A11: 6 | B11: දොඩම්වල අඳගොළු බිහිරි පාසලේ විදුහල්පති නිල නිවසට යන පාර කොන්ක්‍රීට් කිරිම | C11: 68000
A12: 7 | B12: දොඩම්වල අඳගොළු බිහිරි පාසලේ රැදවුම් බැම්ම ඉදි කිරිම | C12: 365000
A13: 8 | B13: දොඩම්වල අඳගොළු බිහිරි පාසලේ විදුහල්පති නිල නිවස වටා කටු කම්බි වැට ඉදි කිරිම | C13: 160000
A14: 9 | B14: දොඩම්වල අඳගොළු බිහිරි පාසලේ විදුහල්පති නිල නිවස ඉදිරිපිට දැල් වැට සකස් කිරිම | C14: 320000
A15: 10 | B15: දොඩම්වල අඳගොළු බිහිරි පාසලේ නේවාසිකාගාරයේ මායිම් තාප්පය ඉදි කිරිම | C15: 200000
A16: 11 | B16: මාවිල්මඩ සරණ සෙවන වැඩිහිටි නිවාසයේ අළුත්වැඩියාව | C16: 1000000
A17: 12 | B17: ආණ්ඩුකාර නිල නිවාසයේ කාමරයක් අළුත්වැඩියා කිරිම | C17: 550000
... A19: 14 | B19: ඔගස්ටාවත්ත බෂාර බේකරිය අසලිින් ඉහලට පිවිසෙන මාර්ගයේ සෙත්සිරි නිවස අසල අබලන් මාර්ගය පිළිසකර කිරිම | C19: 50047.6
B20: මුලුගම්පල බැංකු ගොඩනැගිල්ල සංවර්ධනය කිරිම | C20: 242000
A21: 15 | B21: අම්පිටියසහන මධස්ථානයේ වෘත්තීය පුහුණු ගොඩනැගිල්ල අළුත්වැඩියා කිරිම
A22: 16 | B22: උඩ පේරාදෙණිය නිවසට හානිවන අයුරින් ඇති ගල් කුල ඉවත් කිරිම | C22: 15500
A23: 17 | B23: ග්‍රාම නිලධාරි සේවා පියසවල් සංවර්ධනය කිරිම
A24: 18 | B24: වෙනත් අමාත්‍යාංශ පොදු 2016
A25: 19 | B25: උඩ පේරාදෙණිය පාර සංවර්ධනය කිරිම | C25: 100000
A26: 20 | B26: තැන්නේකුඹුර ගෘඩ්හොප් මාවතේ පැති බැම්ම ඉදි කිරිම | C26: 1220000
A30: 2016 රේඛීය අමාත්‍යාංශ ඇස්තමේන්තු සැකසිමට ඇති
A31: ප්‍රාදේශීය ලේකම් කොට්ඨාශය - ගගවටකෝරළය
A32: අනු අංකය | B32: ව්‍යාපෘතිය
A33: 21 | B33: මහනුවර ප්‍රධාන කාර්යාලයේ යකඩ ග්‍රීල් මගින් වෙන් කර අංශයක් සකස් කර ගැනීම සඳහා වියදම් ඇස්තමේන්තුව
A34: 22 | B34: පේරාදෙණිය ප්‍රධාන තැපැල් කාර්යාලයේ ප්‍රධාන දොරටුවේ කැඩි ගිය විදුරුව අළුත්වැඩියාව

Sheet 2016 ලිපි ගොනු
A1: 2016 රේඛීය අමාත්‍යාංශ වල 2016 වර්ෂයේ ලිපිගොනු
A2: ප්‍රාදේශීය ලේකම් කොට්ඨාශය - ගගවටකෝරළය
A3: අමාත්‍යාංශ අනු අංක | B3: අමාත්‍යාංශය | C3: ව්‍යාපෘති අනු අංක | D3: ව්‍යාපෘතිය | E3: වෙන් වූ මුදල රු. | F3: මුල්‍ය ප්‍රගතිය | G3: වෙනත්
A5: 1 | B5: සමාජ සුභ සාධන, පරිවාස හා ළමා රක්ෂණ සේවා කටයුතු දෙපාර්තමේන්තුව - මධ්‍යම පලාත | C5: 1 | D5: නවෝදය විශේෂ පාසලේ වේදිකාව ඉදිකිරිම | E5: 300000 | F5: 294000 | G5: වැඩ අවසන්
C6: 2 | D6: මාවිල්මඩ සරණ සෙවන වැඩිහිටි නිවාසයේ අළුත්වැඩියාව | E6: 117041.07 | H6: ප්‍රසාද්
A7: 2 | B7: බුද්ධශාසන අමාත්‍යාංශය | C7: 3 | D7: ඔගස්ටාවත්ත ශ්‍රී සුගත බිම්බාරාම විහාරස්ථානය සංවර්ධනය කිරිම | E7: 200000 | F7: 194000 | G7: වැඩ අවසන්
C8: 4 | D8: දංගොල්ල තිස්සාරාම විහාරස්ථානය සංවර්ධනය කිරිම | E8: 200000 | F8: 194000 | G8: වැඩ අවසන්
C9: 5 | D9: දොඩම්වල ශ්‍රී ගංගාරාම විහාරස්ථ ශ්‍රී සද්ධර්මෝදය දහම් පාසලේ සංවර්ධන කටයුතු | E9: 150000 | F9: 145500 | G9: වැඩ අවසන්
C10: 6 | D10: ශ්‍රී සුධර්මාරාම පුරාණ විහාරයේ දහම් පාසල් සංවර්ධන කටයුතු | E10: 200000 | F10: 193697.57 | G10: වැඩ අවසන්
A11: 3 | B11: අපදා කළමනාකරණ | C11: 7 | D11: කීර්ති ශ්‍රී රාජසිංහ මාවතේ නායයාම් අවම කිරිමේ ව්‍යාපෘතිය | E11: 1465500 | F11: =200000+1024531.28 -> 1224531.3 | G11: පළමු බිල් පතට ගෙවා ඇත.
A12: 4 | B12: අපනයන කෘෂිකර්ම දෙපාර්තමේන්තුව | C12: 8 | D12: අපනයන කෘෂිකර්ම දෙපාර්තමේන්තුවේ ප්‍රධාන කාර්යාලයේ ගිණුම් අංශයේ කාමර වෙන් කිරිම | E12: 1250000
C13: 9 | D13: අපනයන කෘෂිකර්ම දෙපාර්තමේන්තුවේ ඉදිරි පස මිදුලේ සිමින්ති ගල් ඇරීම | E13: 1000000 | H13: කරුණාරත්න
C14: 10 | D14: අපනයන කෘෂිකර්ම දෙපාර්තමේන්තුවේ මහනුවර දිස්ත්‍රිකයේ කාර්යාලයේ රැස්වීම් ශාලාවේ වහලය සඳහා සිවිලිම ගැනීම | E14: 500000 | H14: කරුණාරත්න
C15: 11 | D15: අපනයන කෘෂිකර්ම දෙපාර්තමේන්තුවේ ප්‍රධාන කාර්යාලයේ සංණිවේදනඅංශයේ කාමර වෙන් කිරිම | E15: 100000 | H15: කරුණාරත්න
C16: 12 | D16: අපනයන කෘෂිකර්ම දෙපාර්තමේන්තුවේ ප්‍රධාන කාර්යාලයේ සංවර්ධන අංශයේ කාමර වෙන් කිරිම | E16: 500000 | H16: කරුණාරත්න
A17: 5 | B17: සමාජ සේවා දෙපාර්තමේන්තුව | C17: 13 | D17: කැටවල වෘතිතීය පුහුණු ආයතනයේ නේවාසිකාගාරයේ වැසිකිලි පද්ධතිය අළුත් වැඩියා කිරිම | E17: 1491341.7 | H17: කරුණාරත්න
C18: 14 | D18: කැටවල වෘතිතීය පුහුණු ආයතනයේ පින්තාරු අංශය සඳහා Hut එකක් සකස් කිරිම | E18: 77547 | H18: කරුණාරත්න
C19: 15 | D19: කැටවල වෘතිතීය පුහුණු ආයතනයේ ක්‍රීඩා පිටිය සංවර්ධනය කිරිම | E19: 99668.7 | H19: කරුණාරත්න
A20: 6 | B20: අධිකරණ අමාත්‍යාංශය | C20: 16 | D20: මහනුවර කම්කරු විනිශ්චය සභා ගොඩනැගිල්ලේ හුණු පිරියම් කිරිම | E20: 121406.5 | F20: 109902.95 | G20: වැඩ අවසන් | H20: මහේෂා
A21: 7 | B21: මධ්‍යම පළාත් ක්‍රීඩා, යෞවන කටයුතු , වනිතා, ග්‍රාමීය සංවර්ධන හා කර්මාන්ත අමාත්‍යාංශය | C21: 17 | D21: හන්තාන දුටුගැමුණු මාවතේ ප්‍රජා ශාලාව සංවර්ධනය කිරිම | E21: 75000
A22: 8 | B22: වෙළඳ, වාණිජ හා සංචාරක දෙපාර්තමේන්තුව - මධ්‍යම පළාත | C22: 18 | D22: ‍ඓතිහාසික මහනුවර නගර මධ්‍යෙය් පිහිටි ශ්‍රී මහා කතරගම දේවාලයට පැමිණෙන විදේශය සංචාරකයින් හට සනීපරක්ෂක පහසුකම් සංවර්ධනය කිරිම. | E22: 878481
C23: 19 | D23: මහනුවර දුම්රිය ස්ථානයේ සංචාරක පහසුකම් සංවර්ධනය කිරිම | E23: 1000000
A24: 9 | B24: සංස්කෘතික කටයුතු දෙපාර්තමේන්තුව | C24: 20 | D24: මහයියාව සේජිදුල් හයිරාත් ජුම්මා පල්ලිය සඳහා භාණ්ඩ ලබා ගැනීම | E24: 20000

Sheet 2016 පොත්පත්
A1: 2016 රේඛීය අමාත්‍යාංශ වල 2016 වර්ෂයේ ලිපිගොනු
A2: ප්‍රාදේශීය ලේකම් කොට්ඨාශය - ගගවටකෝරළය
A3: අනු අංකය | B3: විස්තරය | C3: වර්ෂය | D3: භාර දුන් බවට | E3: භාර ගත් බවට
A5: 1 | B5: වෙනත් දෙපාර්තමේන්තු/ අමාත්‍යාංශ යෝජනා | C5: 2013
A6: 2 | B6: විෂය ගොනු ලේඛණය | C6: 2014
A7: 3 | B7: වෙනත් දෙපාර්තමේන්තු/ අමාත්‍යාංශ යෝජනා | C7: 2014
A8: 4 | B8: වෙනත් දෙපාර්තමේන්තු/ අමාත්‍යාංශ යෝජනා | C8: 2015
A9: 5 | B9: වෙනත් දෙපාර්තමේන්තු/ අමාත්‍යාංශ ප්‍රගතිය | C9: 2015
A10: 6 | B10: කොන්ත්‍රාත් නියාමන ලේඛණය | C10: 2015
A11: 7 | B11: ලිපි ගොනු භාර දීම | C11: 2015
A12: 8 | B12: ලැබෙන තැපෑල පිළිබද ලේඛණය | C12: 2015
A13: 9 | B13: රේඛීය අමාත්‍යාංශ විෂය ගොනු ලේඛණය | C13: 2015
A14: 10 | B14: වෙනත්/ රේඛීය අමාත්‍යාංශ විෂය ගොනු ලේඛණය | C14: 2016
A15: 11 | B15: වෙනත්/ රේඛීය අමාත්‍යාංශ යෝජනා | C15: 2016
A16: 12 | B16: වෙනත් දෙපාර්තමේන්තු/ අමාත්‍යාංශ ප්‍රගතිය | C16: 2016
... A18: 14 | B18: කොන්ත්‍රාත් නියාමන ලේඛණය | C18: 2016
A42: 2016 රේඛීය අමාත්‍යාංශ වල ලිපිගොනු
A43: ප්‍රාදේශීය ලේකම් කොට්ඨාශය - ගගවටකෝරළය
A45: අනු අංකය | B45: විස්තරය | C45: වර්ෂය | D45: භාර දුන් බවට | E45: භාර ගත් බවට | F45: වෙනත්
A47: 1 | B47: සහකාර සුරාබදු කොමසාරිස් කාර්යාල ගොඩනැගිල්ල අළුත්වැඩියාව | C47: 2016 | F47: ඇස්තමේන්තු සැකසීමට දී ඇත
A48: 2 | B48: ශාන්ත අන්තෝනි බාලිකා විදුහල් පැසිපන්දු ක්‍රීඩාංගනය සංවර්ධනය කිරිම | C48: 2016 | F48: ඇස්තමේන්තු සැකසීමට දී ඇත
A49: 3 | B49: අම්පිටිය කුර්ආන් මද්රසා අංක - 19, සංවර්ධන කටයුතු - ර. 100,000/= | C49: 2016
A50: 4 | B50: ගුරුදෙණියේ කිරිමැටිය ගම් මැද පාරේ පාලම ඉදි කිරිම රු. 118,769.80/= | C50: 2016 | F50: ඇස්තමේන්තු සැකසීමට දී ඇත
A51: 5 | B51: කැටවල වෘත්තීය පුහුණු මධස්ථානයේ පෑස්සුම් අංශයේ පිවිසුම් මාර්ගය අළුත්වැඩියා කිරිම රු. 400,000/= | C51: 2014 | F51: රැදවුම් ගෙවීමටඉ ඇත.
